BEGIN:VCALENDAR
VERSION:2.0
PRODID:-//Islamic Society of Akron and Kent - ECPv5.14.1//NONSGML v1.0//EN
CALSCALE:GREGORIAN
METHOD:PUBLISH
X-WR-CALNAME:Islamic Society of Akron and Kent
X-ORIGINAL-URL:https://isak.us
X-WR-CALDESC:Events for Islamic Society of Akron and Kent
REFRESH-INTERVAL;VALUE=DURATION:PT1H
X-Robots-Tag:noindex
X-PUBLISHED-TTL:PT1H
BEGIN:VTIMEZONE
TZID:UTC
BEGIN:STANDARD
TZOFFSETFROM:+0000
TZOFFSETTO:+0000
TZNAME:UTC
DTSTART:20260101T000000
END:STANDARD
END:VTIMEZONE
BEGIN:VEVENT
DTSTART;TZID=UTC:20260227T230000
DTEND;TZID=UTC:20260228T053000
DTSTAMP:20260424T190822
CREATED:20260227T175402Z
LAST-MODIFIED:20260227T175402Z
UID:31314-1772233200-1772256600@isak.us
SUMMARY:Ramadan Recharge
DESCRIPTION:Ramadan Recharge \nDates: 11:00 PM – Fajr \nFebruary 27th\, March 6th\, & March 13th \nLocation: Islamic Society of Akron and Kent\, 152 E Steels Corners Rd\, Cuyahoga Falls\, OH 44224 \nIn this blessed month\, take advantage of the late night hours in the house of Allah. Listen to words from our scholars\, reflect on the recitation of the Holy Quran\, engage in Qiyaam during the best portion of the night\, and share Suhoor with your brothers and sisters. \nThis overnight program is open to brothers and sisters.
URL:https://isak.us/event/ramadan-recharge/
LOCATION:ISAK\, 152 E Steels Corners Rd\, Cuyahoga Falls\, OH\, 44224\, United States
CATEGORIES:Ramadan
ATTACH;FMTTYPE=image/jpeg:https://isak.us/wp-content/uploads/2026/02/unnamed-3.jpg
ORGANIZER;CN="ISAK":MAILTO:aa@isak.org
END:VEVENT
BEGIN:VEVENT
DTSTART;TZID=UTC:20260228T180000
DTEND;TZID=UTC:20260228T193000
DTSTAMP:20260424T190822
CREATED:20260227T175134Z
LAST-MODIFIED:20260227T175134Z
UID:31312-1772301600-1772307000@isak.us
SUMMARY:ISAK Community Iftar
DESCRIPTION:ISAK Community Iftar \nDates:  After Maghrib \nFebruary 21st\, February 28th\, March 7th\, & March 14th \nLocation: Islamic Society of Akron and Kent\, 152 E Steels Corners Rd\, Cuyahoga Falls\, OH 44224 \nJoin us for weekly community Iftars at the Islamic Community Center! Come together in the spirit of Ramadan as we break our fast and share a meal with friends and family. Don’t miss this opportunity to connect and celebrate as a community—everyone is welcome!
URL:https://isak.us/event/isak-community-iftar-3/
LOCATION:ISAK\, 152 E Steels Corners Rd\, Cuyahoga Falls\, OH\, 44224\, United States
CATEGORIES:Ramadan
ATTACH;FMTTYPE=image/png:https://isak.us/wp-content/uploads/2026/02/unnamed-3.png
ORGANIZER;CN="ISAK":MAILTO:aa@isak.org
END:VEVENT
BEGIN:VEVENT
DTSTART;TZID=UTC:20260228T213000
DTEND;TZID=UTC:20260301T060000
DTSTAMP:20260424T190822
CREATED:20260227T180407Z
LAST-MODIFIED:20260227T180407Z
UID:31319-1772314200-1772344800@isak.us
SUMMARY:Brothers’ Qiyaam Night
DESCRIPTION:Brothers’ Qiyaam Night  \nWe are excited to host Youth Qiyaam Nights. These will be held from after Taraweeh to Fajr and will include activities such as youth discussion\, tahajjud\, and suhoor! \nRegistration link:  isak.org/brothersqiyaam \nWe hope your children will join us for this unique opportunity to grow spiritually\, strengthen our connections with one another\, and embrace the spirit of Ramadan \nLocation: Conference Room\, Islamic Society of Akron and Kent\, 152 E Steels Corners Rd\, Cuyahoga Falls\, OH 44224
URL:https://isak.us/event/brothers-qiyaam-night/
LOCATION:ISAK\, 152 E Steels Corners Rd\, Cuyahoga Falls\, OH\, 44224\, United States
CATEGORIES:Ramadan,Youth Services
ATTACH;FMTTYPE=image/png:https://isak.us/wp-content/uploads/2026/02/unnamed-5.png
ORGANIZER;CN="ISAK":MAILTO:aa@isak.org
END:VEVENT
END:VCALENDAR