BEGIN:VCALENDAR
VERSION:2.0
PRODID:-//Islamic Society of Akron and Kent - ECPv5.14.1//NONSGML v1.0//EN
CALSCALE:GREGORIAN
METHOD:PUBLISH
X-WR-CALNAME:Islamic Society of Akron and Kent
X-ORIGINAL-URL:https://isak.us
X-WR-CALDESC:Events for Islamic Society of Akron and Kent
REFRESH-INTERVAL;VALUE=DURATION:PT1H
X-Robots-Tag:noindex
X-PUBLISHED-TTL:PT1H
BEGIN:VTIMEZONE
TZID:UTC
BEGIN:STANDARD
TZOFFSETFROM:+0000
TZOFFSETTO:+0000
TZNAME:UTC
DTSTART:20260101T000000
END:STANDARD
END:VTIMEZONE
BEGIN:VEVENT
DTSTART;TZID=UTC:20260228T213000
DTEND;TZID=UTC:20260301T060000
DTSTAMP:20260424T201553
CREATED:20260227T180407Z
LAST-MODIFIED:20260227T180407Z
UID:31319-1772314200-1772344800@isak.us
SUMMARY:Brothers’ Qiyaam Night
DESCRIPTION:Brothers’ Qiyaam Night  \nWe are excited to host Youth Qiyaam Nights. These will be held from after Taraweeh to Fajr and will include activities such as youth discussion\, tahajjud\, and suhoor! \nRegistration link:  isak.org/brothersqiyaam \nWe hope your children will join us for this unique opportunity to grow spiritually\, strengthen our connections with one another\, and embrace the spirit of Ramadan \nLocation: Conference Room\, Islamic Society of Akron and Kent\, 152 E Steels Corners Rd\, Cuyahoga Falls\, OH 44224
URL:https://isak.us/event/brothers-qiyaam-night/
LOCATION:ISAK\, 152 E Steels Corners Rd\, Cuyahoga Falls\, OH\, 44224\, United States
CATEGORIES:Ramadan,Youth Services
ATTACH;FMTTYPE=image/png:https://isak.us/wp-content/uploads/2026/02/unnamed-5.png
ORGANIZER;CN="ISAK":MAILTO:aa@isak.org
END:VEVENT
BEGIN:VEVENT
DTSTART;TZID=UTC:20260306T230000
DTEND;TZID=UTC:20260307T060000
DTSTAMP:20260424T201553
CREATED:20260306T132314Z
LAST-MODIFIED:20260306T132314Z
UID:31340-1772838000-1772863200@isak.us
SUMMARY:Ramadan Recharge
DESCRIPTION:Ramadan Recharge \nDates: 11:00 PM – Fajr \nFebruary 27th\, March 6th\, & March 13th \nLocation: Islamic Society of Akron and Kent\, 152 E Steels Corners Rd\, Cuyahoga Falls\, OH 44224 \nIn this blessed month\, take advantage of the late night hours in the house of Allah. Listen to words from our scholars\, reflect on the recitation of the Holy Quran\, engage in Qiyaam during the best portion of the night\, and share Suhoor with your brothers and sisters. \nThis overnight program is open to brothers and sisters.
URL:https://isak.us/event/ramadan-recharge-2/
LOCATION:The Ummah Center\, 24050 Royalton Rd\, Columbia Station\,\, OH\, 44028\, United States
CATEGORIES:Ramadan
ATTACH;FMTTYPE=image/jpeg:https://isak.us/wp-content/uploads/2026/02/unnamed-3.jpg
END:VEVENT
BEGIN:VEVENT
DTSTART;TZID=UTC:20260307T180000
DTEND;TZID=UTC:20260307T193000
DTSTAMP:20260424T201553
CREATED:20260306T131927Z
LAST-MODIFIED:20260306T131959Z
UID:31338-1772906400-1772911800@isak.us
SUMMARY:ISAK Community Iftar
DESCRIPTION:ISAK Community Iftar \nDates:  After Maghrib \nMarch 7th\, & March 14th \nLocation: Islamic Society of Akron and Kent\, 152 E Steels Corners Rd\, Cuyahoga Falls\, OH 44224 \nJoin us for weekly community Iftars at the Islamic Community Center! Come together in the spirit of Ramadan as we break our fast and share a meal with friends and family. Don’t miss this opportunity to connect and celebrate as a community—everyone is welcome!
URL:https://isak.us/event/isak-community-iftar-4/
LOCATION:ISAK\, 152 E Steels Corners Rd\, Cuyahoga Falls\, OH\, 44224\, United States
CATEGORIES:Ramadan
ATTACH;FMTTYPE=image/png:https://isak.us/wp-content/uploads/2026/02/unnamed-3.png
END:VEVENT
BEGIN:VEVENT
DTSTART;TZID=UTC:20260313T230000
DTEND;TZID=UTC:20260314T063000
DTSTAMP:20260424T201553
CREATED:20260313T121851Z
LAST-MODIFIED:20260313T121851Z
UID:31368-1773442800-1773469800@isak.us
SUMMARY:Ramadan Recharge
DESCRIPTION:Ramadan Recharge \nDates: March 13th\, 2026\, 11:00 PM – Fajr \nLocation: Islamic Society of Akron and Kent\, 152 E Steels Corners Rd\, Cuyahoga Falls\, OH 44224 \nRegistration Link: isak.org/recharge \nIn this blessed month\, take advantage of the late night hours in the house of Allah. Listen to words from our scholars\, reflect on the recitation of the Holy Quran\, engage in Qiyaam during the best portion of the night\, and share Suhoor with your brothers and sisters. \nThis overnight program is open to brothers and sisters.
URL:https://isak.us/event/ramadan-recharge-3/
LOCATION:ISAK\, 152 E Steels Corners Rd\, Cuyahoga Falls\, OH\, 44224\, United States
CATEGORIES:Ramadan
ATTACH;FMTTYPE=image/jpeg:https://isak.us/wp-content/uploads/2026/03/unnamed-4.jpg
END:VEVENT
BEGIN:VEVENT
DTSTART;TZID=UTC:20260314T193000
DTEND;TZID=UTC:20260314T210000
DTSTAMP:20260424T201553
CREATED:20260313T122021Z
LAST-MODIFIED:20260313T122706Z
UID:31371-1773516600-1773522000@isak.us
SUMMARY:ISAK Community Iftar
DESCRIPTION:ISAK Community Iftar \nDates:  After Maghrib \nMarch 7th\, & March 14th \nLocation: Islamic Society of Akron and Kent\, 152 E Steels Corners Rd\, Cuyahoga Falls\, OH 44224 \nJoin us for weekly community Iftars at the Islamic Community Center! Come together in the spirit of Ramadan as we break our fast and share a meal with friends and family. Don’t miss this opportunity to connect and celebrate as a community—everyone is welcome!
URL:https://isak.us/event/isak-community-iftar-5/
LOCATION:ISAK\, 152 E Steels Corners Rd\, Cuyahoga Falls\, OH\, 44224\, United States
CATEGORIES:Ramadan
ATTACH;FMTTYPE=image/png:https://isak.us/wp-content/uploads/2026/02/unnamed-3.png
END:VEVENT
BEGIN:VEVENT
DTSTART;TZID=UTC:20260315T170000
DTEND;TZID=UTC:20260315T210000
DTSTAMP:20260424T201553
CREATED:20260313T122523Z
LAST-MODIFIED:20260313T122614Z
UID:31373-1773594000-1773608400@isak.us
SUMMARY:Ramadan Madness
DESCRIPTION:Iftaar will be provided and catered by local restaurants to share and enjoy together after Maghreb prayer.Ramadan Madness \nDate: Sunday\, March 15\, after Asr in the community hall for youth ages 13-17. \nRegistration Link: isak.org/ramadanmadness \nLocation: Community Hall\, Islamic Society of Akron and Kent\, 152 E Steels Corners Rd\, Cuyahoga Falls\, OH 44224 \nWe are excited to announce our special Ramadan Program for this year! Join us in the ISAK Community Hall Sundays after Asr for a meaningful and enriching experience designed for youth ages 13+! \nPart of this program will be Ramadan Madness. Loosely based on March Madness\, each event will include activities focused on learning about our faith through a fun and engaging team-based competition. Youth will compete to accumulate points through weekly games\, with exciting prizes for weekly winners and a grand prize for the top-performing youth at the end of Ramadan. \nIftaar will be provided and catered by local restaurants to share and enjoy together after Maghreb prayer. \nWe hope your children will join us for this unique opportunity to grow spiritually\, strengthen our connections with one another\, and embrace the spirit of Ramadan
URL:https://isak.us/event/31373/
LOCATION:Islamic Community Hall\, 152 East Steels Corner Rd\, Cuyahoga Falls\, OH\, 44224\, United States
CATEGORIES:Ramadan,Youth Services
ATTACH;FMTTYPE=image/png:https://isak.us/wp-content/uploads/2026/02/unnamed-5.png
END:VEVENT
END:VCALENDAR