BEGIN:VCALENDAR
VERSION:2.0
PRODID:-//Islamic Society of Akron and Kent - ECPv5.14.1//NONSGML v1.0//EN
CALSCALE:GREGORIAN
METHOD:PUBLISH
X-WR-CALNAME:Islamic Society of Akron and Kent
X-ORIGINAL-URL:https://isak.us
X-WR-CALDESC:Events for Islamic Society of Akron and Kent
REFRESH-INTERVAL;VALUE=DURATION:PT1H
X-Robots-Tag:noindex
X-PUBLISHED-TTL:PT1H
BEGIN:VTIMEZONE
TZID:UTC
BEGIN:STANDARD
TZOFFSETFROM:+0000
TZOFFSETTO:+0000
TZNAME:UTC
DTSTART:20250101T000000
END:STANDARD
END:VTIMEZONE
BEGIN:VEVENT
DTSTART;TZID=UTC:20250510T180000
DTEND;TZID=UTC:20250510T200000
DTSTAMP:20260421T140607
CREATED:20250508T061659Z
LAST-MODIFIED:20250508T064428Z
UID:30421-1746900000-1746907200@isak.us
SUMMARY:Community Resources Event with CAIR-Ohio and ASIA
DESCRIPTION:Date: Saturday\, May 10th\, 6:00 – 8:00 PM \nLocation: Islamic Society of Akron and Kent\, 152 E Steels Corners Rd\, Cuyahoga Falls\, OH 44224 Free Admission! \nJoin us for a powerful evening of resources and support for our community! Come ready with your questions! Learn what CAIR\, ASIA\, and Ahimsa can offer YOU and meet people who are here to help! \nCome and connect with representatives from: \nASIA (Asian Services in Action) Immigration & Family Law info – meet our attorney! \nLearn about services in Arabic & English \nMeet: \nNathanial Johnson – Senior Bilingual Staff Attorney \nLamees Abuhashim – Senior Bilingual Advocate/Interpreter \nFarah Kawtharani – Legal & Cultural Needs Evaluator \nCAIR Ohio – Civil Rights\, Legal Services & Advocacy \nMeet: \nSr. Faten Odeh- CAIR Cleveland Executive Director \nSr. Jenna Muhieddine \nDon’t miss this opportunity to get informed and empowered!
URL:https://isak.us/event/community-resources-event-with-cair-ohio-and-asia/
LOCATION:Islamic Community Hall\, 152 East Steels Corner Rd\, Cuyahoga Falls\, OH\, 44224\, United States
CATEGORIES:Programs
ATTACH;FMTTYPE=image/jpeg:https://isak.us/wp-content/uploads/2025/05/unnamed-2-1.jpg
ORGANIZER;CN="ISAK":MAILTO:aa@isak.org
END:VEVENT
END:VCALENDAR