BEGIN:VCALENDAR
VERSION:2.0
PRODID:-//Islamic Society of Akron and Kent - ECPv5.14.1//NONSGML v1.0//EN
CALSCALE:GREGORIAN
METHOD:PUBLISH
X-WR-CALNAME:Islamic Society of Akron and Kent
X-ORIGINAL-URL:https://isak.us
X-WR-CALDESC:Events for Islamic Society of Akron and Kent
REFRESH-INTERVAL;VALUE=DURATION:PT1H
X-Robots-Tag:noindex
X-PUBLISHED-TTL:PT1H
BEGIN:VTIMEZONE
TZID:UTC
BEGIN:STANDARD
TZOFFSETFROM:+0000
TZOFFSETTO:+0000
TZNAME:UTC
DTSTART:20250101T000000
END:STANDARD
END:VTIMEZONE
BEGIN:VEVENT
DTSTART;TZID=UTC:20251108T150000
DTEND;TZID=UTC:20251108T173000
DTSTAMP:20260419T132749
CREATED:20251024T135056Z
LAST-MODIFIED:20251024T135056Z
UID:31064-1762614000-1762623000@isak.us
SUMMARY:General Assembly Meeting
DESCRIPTION:General Assembly Meeting \nDate: Saturday\, November 8th\, 2025\, 3:15 PM \nLocation: Islamic Society of Akron and Kent\, 152 E Steels Corners Rd\, Cuyahoga Falls\, OH 44224 \nJoin us for the ISAK General Assembly Meeting where we will go over the accomplishments and goals\, financial\, outreach\, education\, and LRPC updates. Followed by a Q&A and dinner!
URL:https://isak.us/event/general-assembly-meeting/
LOCATION:Islamic Community Hall\, 152 East Steels Corner Rd\, Cuyahoga Falls\, OH\, 44224\, United States
CATEGORIES:Programs
ATTACH;FMTTYPE=image/jpeg:https://isak.us/wp-content/uploads/2025/10/unnamed-9.jpg
ORGANIZER;CN="ISAK":MAILTO:aa@isak.org
END:VEVENT
END:VCALENDAR