BEGIN:VCALENDAR
VERSION:2.0
PRODID:-//Islamic Society of Akron and Kent - ECPv5.14.1//NONSGML v1.0//EN
CALSCALE:GREGORIAN
METHOD:PUBLISH
X-WR-CALNAME:Islamic Society of Akron and Kent
X-ORIGINAL-URL:https://isak.us
X-WR-CALDESC:Events for Islamic Society of Akron and Kent
REFRESH-INTERVAL;VALUE=DURATION:PT1H
X-Robots-Tag:noindex
X-PUBLISHED-TTL:PT1H
BEGIN:VTIMEZONE
TZID:UTC
BEGIN:STANDARD
TZOFFSETFROM:+0000
TZOFFSETTO:+0000
TZNAME:UTC
DTSTART:20250101T000000
END:STANDARD
TZID:America/New_York
BEGIN:DAYLIGHT
TZOFFSETFROM:-0500
TZOFFSETTO:-0400
TZNAME:EDT
DTSTART:20250309T070000
END:DAYLIGHT
BEGIN:STANDARD
TZOFFSETFROM:-0400
TZOFFSETTO:-0500
TZNAME:EST
DTSTART:20251102T060000
END:STANDARD
END:VTIMEZONE
BEGIN:VEVENT
DTSTART;TZID=UTC:20250903T153000
DTEND;TZID=UTC:20250903T173000
DTSTAMP:20260422T044639
CREATED:20250829T175556Z
LAST-MODIFIED:20250829T175556Z
UID:30822-1756913400-1756920600@isak.us
SUMMARY:Children’s Maktab Program
DESCRIPTION:Children’s Maktab Program \nDate: Starts August 6th\, 2024 \nWednesday – Friday; 3:30 – 5:30 PM \nLocation: Islamic Society of Akron and Kent\, 152 E Steels Corners Rd\, Cuyahoga Falls\, OH 44224 \nRegistration Link: isak.org/quran \nEnroll your children today for the ISAK Children’s Maktab program! The after-school program is designed to teach students to learn the skills needed for Qur’anic recitation with its proper pronunciation\, and fluency. \nThis program focuses on teaching Tajweed\, the art of correct pronunciation and recitation of the Qur’an\, to instill a love for the holy text and faster spiritual growth among young learners. \nFor any enrollment questions please contact imam@isak.org
URL:https://isak.us/event/childrens-maktab-program-12/
LOCATION:ISAK\, 152 E Steels Corners Rd\, Cuyahoga Falls\, OH\, 44224\, United States
CATEGORIES:Education,Programs
ATTACH;FMTTYPE=image/png:https://isak.us/wp-content/uploads/2025/08/unnamed-25.png
ORGANIZER;CN="ISAK":MAILTO:aa@isak.org
END:VEVENT
BEGIN:VEVENT
DTSTART;TZID=America/New_York:20250904T153000
DTEND;TZID=America/New_York:20250904T173000
DTSTAMP:20260422T044639
CREATED:20250903T213007Z
LAST-MODIFIED:20250829T175759Z
UID:30824-1756999800-1757007000@isak.us
SUMMARY:Children’s Maktab Program
DESCRIPTION:Children’s Maktab Program \nDate: Starts August 6th\, 2024 \nWednesday – Friday; 3:30 – 5:30 PM \nLocation: Islamic Society of Akron and Kent\, 152 E Steels Corners Rd\, Cuyahoga Falls\, OH 44224 \nRegistration Link: isak.org/quran \nEnroll your children today for the ISAK Children’s Maktab program! The after-school program is designed to teach students to learn the skills needed for Qur’anic recitation with its proper pronunciation\, and fluency. \nThis program focuses on teaching Tajweed\, the art of correct pronunciation and recitation of the Qur’an\, to instill a love for the holy text and faster spiritual growth among young learners. \nFor any enrollment questions please contact imam@isak.org
URL:https://isak.us/event/childrens-maktab-program-13/
LOCATION:ISAK\, 152 E Steels Corners Rd\, Cuyahoga Falls\, OH\, 44224\, United States
CATEGORIES:Education,Programs
ATTACH;FMTTYPE=image/png:https://isak.us/wp-content/uploads/2025/08/unnamed-25.png
ORGANIZER;CN="ISAK":MAILTO:aa@isak.org
END:VEVENT
BEGIN:VEVENT
DTSTART;TZID=America/New_York:20250905T153000
DTEND;TZID=America/New_York:20250905T173000
DTSTAMP:20260422T044639
CREATED:20250904T213017Z
LAST-MODIFIED:20250829T175932Z
UID:30826-1757086200-1757093400@isak.us
SUMMARY:Children’s Maktab Program
DESCRIPTION:Children’s Maktab Program \nDate: Starts August 6th\, 2024 \nWednesday – Friday; 3:30 – 5:30 PM \nLocation: Islamic Society of Akron and Kent\, 152 E Steels Corners Rd\, Cuyahoga Falls\, OH 44224 \nRegistration Link: isak.org/quran \nEnroll your children today for the ISAK Children’s Maktab program! The after-school program is designed to teach students to learn the skills needed for Qur’anic recitation with its proper pronunciation\, and fluency. \nThis program focuses on teaching Tajweed\, the art of correct pronunciation and recitation of the Qur’an\, to instill a love for the holy text and faster spiritual growth among young learners. \nFor any enrollment questions please contact imam@isak.org
URL:https://isak.us/event/childrens-maktab-program-14/
LOCATION:ISAK\, 152 E Steels Corners Rd\, Cuyahoga Falls\, OH\, 44224\, United States
CATEGORIES:Education,Programs
ATTACH;FMTTYPE=image/png:https://isak.us/wp-content/uploads/2025/08/unnamed-25.png
ORGANIZER;CN="ISAK":MAILTO:aa@isak.org
END:VEVENT
BEGIN:VEVENT
DTSTART;TZID=America/New_York:20250910T153000
DTEND;TZID=America/New_York:20250910T173000
DTSTAMP:20260422T044639
CREATED:20250905T213002Z
LAST-MODIFIED:20250829T180235Z
UID:30828-1757518200-1757525400@isak.us
SUMMARY:Children’s Maktab Program
DESCRIPTION:Children’s Maktab Program \nDate: Starts August 6th\, 2024 \nWednesday – Friday; 3:30 – 5:30 PM \nLocation: Islamic Society of Akron and Kent\, 152 E Steels Corners Rd\, Cuyahoga Falls\, OH 44224 \nRegistration Link: isak.org/quran \nEnroll your children today for the ISAK Children’s Maktab program! The after-school program is designed to teach students to learn the skills needed for Qur’anic recitation with its proper pronunciation\, and fluency. \nThis program focuses on teaching Tajweed\, the art of correct pronunciation and recitation of the Qur’an\, to instill a love for the holy text and faster spiritual growth among young learners. \nFor any enrollment questions please contact imam@isak.org
URL:https://isak.us/event/childrens-maktab-program-15/
LOCATION:ISAK\, 152 E Steels Corners Rd\, Cuyahoga Falls\, OH\, 44224\, United States
CATEGORIES:Education,Programs
ATTACH;FMTTYPE=image/png:https://isak.us/wp-content/uploads/2025/08/unnamed-25.png
ORGANIZER;CN="ISAK":MAILTO:aa@isak.org
END:VEVENT
BEGIN:VEVENT
DTSTART;TZID=America/New_York:20250911T153000
DTEND;TZID=America/New_York:20250911T173000
DTSTAMP:20260422T044639
CREATED:20250910T213055Z
LAST-MODIFIED:20250829T180404Z
UID:30830-1757604600-1757611800@isak.us
SUMMARY:Children’s Maktab Program
DESCRIPTION:Children’s Maktab Program \nDate: Starts August 6th\, 2024 \nWednesday – Friday; 3:30 – 5:30 PM \nLocation: Islamic Society of Akron and Kent\, 152 E Steels Corners Rd\, Cuyahoga Falls\, OH 44224 \nRegistration Link: isak.org/quran \nEnroll your children today for the ISAK Children’s Maktab program! The after-school program is designed to teach students to learn the skills needed for Qur’anic recitation with its proper pronunciation\, and fluency. \nThis program focuses on teaching Tajweed\, the art of correct pronunciation and recitation of the Qur’an\, to instill a love for the holy text and faster spiritual growth among young learners. \nFor any enrollment questions please contact imam@isak.org
URL:https://isak.us/event/childrens-maktab-program-16/
LOCATION:ISAK\, 152 E Steels Corners Rd\, Cuyahoga Falls\, OH\, 44224\, United States
CATEGORIES:Education,Programs
ATTACH;FMTTYPE=image/png:https://isak.us/wp-content/uploads/2025/08/unnamed-25.png
ORGANIZER;CN="ISAK":MAILTO:aa@isak.org
END:VEVENT
BEGIN:VEVENT
DTSTART;TZID=UTC:20250912T153000
DTEND;TZID=UTC:20250912T173000
DTSTAMP:20260422T044639
CREATED:20250911T213012Z
LAST-MODIFIED:20250829T180542Z
UID:30832-1757691000-1757698200@isak.us
SUMMARY:Children’s Maktab Program
DESCRIPTION:Children’s Maktab Program \nDate: Starts August 6th\, 2024 \nWednesday – Friday; 3:30 – 5:30 PM \nLocation: Islamic Society of Akron and Kent\, 152 E Steels Corners Rd\, Cuyahoga Falls\, OH 44224 \nRegistration Link: isak.org/quran \nEnroll your children today for the ISAK Children’s Maktab program! The after-school program is designed to teach students to learn the skills needed for Qur’anic recitation with its proper pronunciation\, and fluency. \nThis program focuses on teaching Tajweed\, the art of correct pronunciation and recitation of the Qur’an\, to instill a love for the holy text and faster spiritual growth among young learners. \nFor any enrollment questions please contact imam@isak.org
URL:https://isak.us/event/childrens-maktab-program-17/
LOCATION:ISAK\, 152 E Steels Corners Rd\, Cuyahoga Falls\, OH\, 44224\, United States
CATEGORIES:Education,Programs
ATTACH;FMTTYPE=image/png:https://isak.us/wp-content/uploads/2025/08/unnamed-25.png
ORGANIZER;CN="ISAK":MAILTO:aa@isak.org
END:VEVENT
BEGIN:VEVENT
DTSTART;TZID=UTC:20250917T153000
DTEND;TZID=UTC:20250917T173000
DTSTAMP:20260422T044639
CREATED:20250912T213015Z
LAST-MODIFIED:20250905T150101Z
UID:30847-1758123000-1758130200@isak.us
SUMMARY:Children’s Maktab Program
DESCRIPTION:Children’s Maktab Program \nDate: Starts August 6th\, 2024 \nWednesday – Friday; 3:30 – 5:30 PM \nLocation: Islamic Society of Akron and Kent\, 152 E Steels Corners Rd\, Cuyahoga Falls\, OH 44224 \nRegistration Link: isak.org/quran \nEnroll your children today for the ISAK Children’s Maktab program! The after-school program is designed to teach students to learn the skills needed for Qur’anic recitation with its proper pronunciation\, and fluency. \nThis program focuses on teaching Tajweed\, the art of correct pronunciation and recitation of the Qur’an\, to instill a love for the holy text and faster spiritual growth among young learners. \nFor any enrollment questions please contact imam@isak.org
URL:https://isak.us/event/childrens-maktab-program-18/
LOCATION:ISAK\, 152 E Steels Corners Rd\, Cuyahoga Falls\, OH\, 44224\, United States
CATEGORIES:Education,Programs
ATTACH;FMTTYPE=image/png:https://isak.us/wp-content/uploads/2025/08/unnamed-25.png
ORGANIZER;CN="ISAK":MAILTO:aa@isak.org
END:VEVENT
BEGIN:VEVENT
DTSTART;TZID=UTC:20250918T153000
DTEND;TZID=UTC:20250918T173000
DTSTAMP:20260422T044639
CREATED:20250912T213026Z
LAST-MODIFIED:20250905T150250Z
UID:30849-1758209400-1758216600@isak.us
SUMMARY:Children’s Maktab Program
DESCRIPTION:Children’s Maktab Program \nDate: Starts August 6th\, 2024 \nWednesday – Friday; 3:30 – 5:30 PM \nLocation: Islamic Society of Akron and Kent\, 152 E Steels Corners Rd\, Cuyahoga Falls\, OH 44224 \nRegistration Link: isak.org/quran \nEnroll your children today for the ISAK Children’s Maktab program! The after-school program is designed to teach students to learn the skills needed for Qur’anic recitation with its proper pronunciation\, and fluency. \nThis program focuses on teaching Tajweed\, the art of correct pronunciation and recitation of the Qur’an\, to instill a love for the holy text and faster spiritual growth among young learners. \nFor any enrollment questions please contact imam@isak.org
URL:https://isak.us/event/childrens-maktab-program-19/
LOCATION:ISAK\, 152 E Steels Corners Rd\, Cuyahoga Falls\, OH\, 44224\, United States
CATEGORIES:Education,Programs
ATTACH;FMTTYPE=image/png:https://isak.us/wp-content/uploads/2025/08/unnamed-25.png
ORGANIZER;CN="ISAK":MAILTO:aa@isak.org
END:VEVENT
BEGIN:VEVENT
DTSTART;TZID=UTC:20250919T153000
DTEND;TZID=UTC:20250919T173000
DTSTAMP:20260422T044639
CREATED:20250912T213058Z
LAST-MODIFIED:20250905T150422Z
UID:30851-1758295800-1758303000@isak.us
SUMMARY:Children’s Maktab Program
DESCRIPTION:Children’s Maktab Program \nDate: Starts August 6th\, 2024 \nWednesday – Friday; 3:30 – 5:30 PM \nLocation: Islamic Society of Akron and Kent\, 152 E Steels Corners Rd\, Cuyahoga Falls\, OH 44224 \nRegistration Link: isak.org/quran \nEnroll your children today for the ISAK Children’s Maktab program! The after-school program is designed to teach students to learn the skills needed for Qur’anic recitation with its proper pronunciation\, and fluency. \nThis program focuses on teaching Tajweed\, the art of correct pronunciation and recitation of the Qur’an\, to instill a love for the holy text and faster spiritual growth among young learners. \nFor any enrollment questions please contact imam@isak.org
URL:https://isak.us/event/childrens-maktab-program-20/
LOCATION:ISAK\, 152 E Steels Corners Rd\, Cuyahoga Falls\, OH\, 44224\, United States
CATEGORIES:Education,Programs
ATTACH;FMTTYPE=image/png:https://isak.us/wp-content/uploads/2025/08/unnamed-25.png
ORGANIZER;CN="ISAK":MAILTO:aa@isak.org
END:VEVENT
BEGIN:VEVENT
DTSTART;TZID=UTC:20250920T160000
DTEND;TZID=UTC:20250920T200000
DTSTAMP:20260422T044639
CREATED:20250905T145514Z
LAST-MODIFIED:20250905T145514Z
UID:30842-1758384000-1758398400@isak.us
SUMMARY:Women’s Health Panel
DESCRIPTION:Women’s Health Panel \nDate: Saturday\, September 20th\, 2025\, 4:00 PM \nLocation: Islamic Society of Akron and Kent\, 152 E Steels Corners Rd\, Cuyahoga Falls\, OH 44224 \nRegistration Link: isak.org/whp \nYou’re invited to a special Women’s Health Panel Discussion at the ISAK Community Center! This event will bring together medical experts to discuss women’s health\, wellness\, and lifestyle in a supportive and interactive environment. \nFeaturing Panelists: \n\nDr. Nisrine Zahir\, MD – Obstetrician Gynecologist\nDr. Walaa Abu Alya – Internal Medicine\, Psychology & Nutrition\n\nHighlights: \n\nEngaging panel discussion\nInteractive Q&A with doctors\nFun activities designed for women\nDinner will be served\nFree babysitting provided\n\nEntry Fee: $15 | Ages 13+ \nRegister today to secure your spot! \nWe look forward to an inspiring evening filled with knowledge\, community\, and connection.
URL:https://isak.us/event/womens-health-panel/
LOCATION:Islamic Community Hall\, 152 East Steels Corner Rd\, Cuyahoga Falls\, OH\, 44224\, United States
CATEGORIES:Programs
ATTACH;FMTTYPE=image/jpeg:https://isak.us/wp-content/uploads/2025/09/unnamed-1.jpg
ORGANIZER;CN="ISAK":MAILTO:aa@isak.org
END:VEVENT
BEGIN:VEVENT
DTSTART;TZID=UTC:20250924T153000
DTEND;TZID=UTC:20250924T173000
DTSTAMP:20260422T044639
CREATED:20250919T213048Z
LAST-MODIFIED:20250912T130155Z
UID:30876-1758727800-1758735000@isak.us
SUMMARY:Children’s Maktab Program
DESCRIPTION:Children’s Maktab Program \nDate: Starts August 6th\, 2024 \nWednesday – Friday; 3:30 – 5:30 PM \nLocation: Islamic Society of Akron and Kent\, 152 E Steels Corners Rd\, Cuyahoga Falls\, OH 44224 \nRegistration Link: isak.org/quran \nEnroll your children today for the ISAK Children’s Maktab program! The after-school program is designed to teach students to learn the skills needed for Qur’anic recitation with its proper pronunciation\, and fluency. \nThis program focuses on teaching Tajweed\, the art of correct pronunciation and recitation of the Qur’an\, to instill a love for the holy text and faster spiritual growth among young learners. \nFor any enrollment questions please contact imam@isak.org
URL:https://isak.us/event/childrens-maktab-program-21/
LOCATION:ISAK\, 152 E Steels Corners Rd\, Cuyahoga Falls\, OH\, 44224\, United States
CATEGORIES:Education,Programs
ATTACH;FMTTYPE=image/png:https://isak.us/wp-content/uploads/2025/08/unnamed-25.png
ORGANIZER;CN="ISAK":MAILTO:aa@isak.org
END:VEVENT
BEGIN:VEVENT
DTSTART;TZID=UTC:20250925T153000
DTEND;TZID=UTC:20250925T173000
DTSTAMP:20260422T044639
CREATED:20250919T213017Z
LAST-MODIFIED:20250912T130410Z
UID:30878-1758814200-1758821400@isak.us
SUMMARY:Children’s Maktab Program
DESCRIPTION:Children’s Maktab Program \nDate: Starts August 6th\, 2024 \nWednesday – Friday; 3:30 – 5:30 PM \nLocation: Islamic Society of Akron and Kent\, 152 E Steels Corners Rd\, Cuyahoga Falls\, OH 44224 \nRegistration Link: isak.org/quran \nEnroll your children today for the ISAK Children’s Maktab program! The after-school program is designed to teach students to learn the skills needed for Qur’anic recitation with its proper pronunciation\, and fluency. \nThis program focuses on teaching Tajweed\, the art of correct pronunciation and recitation of the Qur’an\, to instill a love for the holy text and faster spiritual growth among young learners. \nFor any enrollment questions please contact imam@isak.org
URL:https://isak.us/event/childrens-maktab-program-22/
LOCATION:ISAK\, 152 E Steels Corners Rd\, Cuyahoga Falls\, OH\, 44224\, United States
CATEGORIES:Education,Programs
ATTACH;FMTTYPE=image/png:https://isak.us/wp-content/uploads/2025/08/unnamed-25.png
ORGANIZER;CN="ISAK":MAILTO:aa@isak.org
END:VEVENT
BEGIN:VEVENT
DTSTART;TZID=UTC:20250926T153000
DTEND;TZID=UTC:20250926T173000
DTSTAMP:20260422T044639
CREATED:20250919T213026Z
LAST-MODIFIED:20250912T130521Z
UID:30880-1758900600-1758907800@isak.us
SUMMARY:Children’s Maktab Program
DESCRIPTION:Children’s Maktab Program \nDate: Starts August 6th\, 2024 \nWednesday – Friday; 3:30 – 5:30 PM \nLocation: Islamic Society of Akron and Kent\, 152 E Steels Corners Rd\, Cuyahoga Falls\, OH 44224 \nRegistration Link: isak.org/quran \nEnroll your children today for the ISAK Children’s Maktab program! The after-school program is designed to teach students to learn the skills needed for Qur’anic recitation with its proper pronunciation\, and fluency. \nThis program focuses on teaching Tajweed\, the art of correct pronunciation and recitation of the Qur’an\, to instill a love for the holy text and faster spiritual growth among young learners. \nFor any enrollment questions please contact imam@isak.org
URL:https://isak.us/event/childrens-maktab-program-23/
LOCATION:ISAK\, 152 E Steels Corners Rd\, Cuyahoga Falls\, OH\, 44224\, United States
CATEGORIES:Education,Programs
ATTACH;FMTTYPE=image/png:https://isak.us/wp-content/uploads/2025/08/unnamed-25.png
ORGANIZER;CN="ISAK":MAILTO:aa@isak.org
END:VEVENT
BEGIN:VEVENT
DTSTART;TZID=UTC:20250926T160000
DTEND;TZID=UTC:20250926T220000
DTSTAMP:20260422T044639
CREATED:20250919T125428Z
LAST-MODIFIED:20250919T125428Z
UID:30913-1758902400-1758924000@isak.us
SUMMARY:Fall Bazaar & Seminar 2025
DESCRIPTION:Fall Bazaar & Seminar 2025 \nDate: Friday\, September 26th\, 2025\, 4:00 – 10:00 PM \nLocation: Islamic Society of Akron and Kent\, 152 E Steels Corners Rd\, Cuyahoga Falls\, OH 44224 \n🎉 Shop\, Eat & Celebrate the Season! \n\nWide Variety of Vendors – Authentic goods\, clothing\, crafts & books\nDelicious Food Stalls – Middle Eastern\, South Asian & international cuisines\nSupport Local Entrepreneurs – Shop with purpose & strengthen community bonds\n\n💡 Why Attend? \n\nDiscover unique products you won’t find elsewhere\nEnjoy a safe\, family-oriented atmosphere\nConnect with local businesses & friends\nTreat your taste buds to cultural delights\n\n  \nThe ISAK Bazaar is almost here\, and vendor registration is closing soon! \nVendor Registration Link: ISAK.org/Bazaar \nCost: $50 per table
URL:https://isak.us/event/fall-bazaar-seminar-2025/
LOCATION:ISAK\, 152 E Steels Corners Rd\, Cuyahoga Falls\, OH\, 44224\, United States
CATEGORIES:Programs
ATTACH;FMTTYPE=image/png:https://isak.us/wp-content/uploads/2025/09/Screenshot-2025-09-19-085025.png
ORGANIZER;CN="ISAK":MAILTO:aa@isak.org
END:VEVENT
BEGIN:VEVENT
DTSTART;TZID=UTC:20250926T193000
DTEND;TZID=UTC:20250926T220000
DTSTAMP:20260422T044639
CREATED:20250926T125219Z
LAST-MODIFIED:20250926T125233Z
UID:30963-1758915000-1758924000@isak.us
SUMMARY:King of Jerusalem: The Epic of Dawud (AS)
DESCRIPTION:King of Jerusalem: The Epic of Dawud (AS) \nDate: Friday\, September 26th\, 2025\, 7:30 – 10:00 PM \nLocation: Islamic Society of Akron and Kent\, 152 E Steels Corners Rd\, Cuyahoga Falls\, OH 44224 \nRegistration Link: almaghrib.org/dawud \nISAK is honored to host a powerful and inspiring evening with AlMaghrib Institute at our center. \nThis evening promises to be more than just a lecture—it’s an immersive journey of faith\, reflection\, and heart-touching stories that will renew your connection with Allah ﷻ and His Messenger ﷺ. \nDon’t miss out on this rare opportunity to experience the depth\, beauty\, and inspiration of AlMaghrib right here at ISAK. \nSeats are limited—secure your spot today! \nFree Entry! (Registration Required)
URL:https://isak.us/event/king-of-jerusalem-the-epic-of-dawud-r-2/
LOCATION:ISAK\, 152 E Steels Corners Rd\, Cuyahoga Falls\, OH\, 44224\, United States
CATEGORIES:Halaqa,Programs
ATTACH;FMTTYPE=image/jpeg:https://isak.us/wp-content/uploads/2025/09/unnamed-4.jpg
ORGANIZER;CN="ISAK":MAILTO:aa@isak.org
END:VEVENT
END:VCALENDAR