BEGIN:VCALENDAR
VERSION:2.0
PRODID:-//Islamic Society of Akron and Kent - ECPv5.14.1//NONSGML v1.0//EN
CALSCALE:GREGORIAN
METHOD:PUBLISH
X-WR-CALNAME:Islamic Society of Akron and Kent
X-ORIGINAL-URL:https://isak.us
X-WR-CALDESC:Events for Islamic Society of Akron and Kent
REFRESH-INTERVAL;VALUE=DURATION:PT1H
X-Robots-Tag:noindex
X-PUBLISHED-TTL:PT1H
BEGIN:VTIMEZONE
TZID:America/New_York
BEGIN:DAYLIGHT
TZOFFSETFROM:-0500
TZOFFSETTO:-0400
TZNAME:EDT
DTSTART:20250309T070000
END:DAYLIGHT
BEGIN:STANDARD
TZOFFSETFROM:-0400
TZOFFSETTO:-0500
TZNAME:EST
DTSTART:20251102T060000
END:STANDARD
TZID:UTC
BEGIN:STANDARD
TZOFFSETFROM:+0000
TZOFFSETTO:+0000
TZNAME:UTC
DTSTART:20250101T000000
END:STANDARD
END:VTIMEZONE
BEGIN:VEVENT
DTSTART;TZID=America/New_York:20250806T153000
DTEND;TZID=America/New_York:20250806T173000
DTSTAMP:20260422T062019
CREATED:20250801T103118Z
LAST-MODIFIED:20250801T103941Z
UID:30728-1754494200-1754501400@isak.us
SUMMARY:Children’s Maktab Program
DESCRIPTION:Children’s Maktab Program \nDate: Starts August 6th\, 2024 \nTuesday – Thursday; 3:30 – 5:30 PM \nLocation: Islamic Society of Akron and Kent\, 152 E Steels Corners Rd\, Cuyahoga Falls\, OH 44224 \nRegistration Link: isak.org/quran \nEnroll your children today for the ISAK Children’s Maktab program! The after-school program is designed to teach students to learn the skills needed for Qur’anic recitation with its proper pronunciation\, and fluency. \nThis program focuses on teaching Tajweed\, the art of correct pronunciation and recitation of the Qur’an\, to instill a love for the holy text and faster spiritual growth among young learners. \nFor any enrollment questions please contact imam@isak.org
URL:https://isak.us/event/childrens-maktab-program/
LOCATION:ISAK Prayer Hall\, 152 E. Steels Corners Rd\, Cuyahoga Falls\, OH\, 44224\, United States
CATEGORIES:Education,Programs
ATTACH;FMTTYPE=image/png:https://isak.us/wp-content/uploads/2025/08/unnamed-25.png
ORGANIZER;CN="ISAK":MAILTO:aa@isak.org
END:VEVENT
BEGIN:VEVENT
DTSTART;TZID=UTC:20250807T153000
DTEND;TZID=UTC:20250807T173000
DTSTAMP:20260422T062019
CREATED:20250801T103330Z
LAST-MODIFIED:20250801T104009Z
UID:30743-1754580600-1754587800@isak.us
SUMMARY:Children’s Maktab Program
DESCRIPTION:Children’s Maktab Program \nDate: Starts August 6th\, 2024 \nTuesday – Thursday; 3:30 – 5:30 PM \nLocation: Islamic Society of Akron and Kent\, 152 E Steels Corners Rd\, Cuyahoga Falls\, OH 44224 \nRegistration Link: isak.org/quran \nEnroll your children today for the ISAK Children’s Maktab program! The after-school program is designed to teach students to learn the skills needed for Qur’anic recitation with its proper pronunciation\, and fluency. \nThis program focuses on teaching Tajweed\, the art of correct pronunciation and recitation of the Qur’an\, to instill a love for the holy text and faster spiritual growth among young learners. \nFor any enrollment questions please contact imam@isak.org
URL:https://isak.us/event/childrens-maktab-program-2/
LOCATION:ISAK Prayer Hall\, 152 E. Steels Corners Rd\, Cuyahoga Falls\, OH\, 44224\, United States
CATEGORIES:Education,Programs
ATTACH;FMTTYPE=image/png:https://isak.us/wp-content/uploads/2025/08/unnamed-25.png
ORGANIZER;CN="ISAK":MAILTO:aa@isak.org
END:VEVENT
BEGIN:VEVENT
DTSTART;TZID=UTC:20250813T153000
DTEND;TZID=UTC:20250813T173000
DTSTAMP:20260422T062019
CREATED:20250808T182915Z
LAST-MODIFIED:20250808T182915Z
UID:30749-1755099000-1755106200@isak.us
SUMMARY:Children’s Maktab Program
DESCRIPTION:Children’s Maktab Program \nDate: Starts August 6th\, 2024 \nWednesday – Friday; 3:30 – 5:30 PM \nLocation: Islamic Society of Akron and Kent\, 152 E Steels Corners Rd\, Cuyahoga Falls\, OH 44224 \nRegistration Link: isak.org/quran \nEnroll your children today for the ISAK Children’s Maktab program! The after-school program is designed to teach students to learn the skills needed for Qur’anic recitation with its proper pronunciation\, and fluency. \nThis program focuses on teaching Tajweed\, the art of correct pronunciation and recitation of the Qur’an\, to instill a love for the holy text and faster spiritual growth among young learners. \nFor any enrollment questions please contact imam@isak.org
URL:https://isak.us/event/childrens-maktab-program-3/
LOCATION:ISAK\, 152 E Steels Corners Rd\, Cuyahoga Falls\, OH\, 44224\, United States
CATEGORIES:Education,Programs
ATTACH;FMTTYPE=image/png:https://isak.us/wp-content/uploads/2025/08/unnamed-25.png
ORGANIZER;CN="ISAK":MAILTO:aa@isak.org
END:VEVENT
BEGIN:VEVENT
DTSTART;TZID=UTC:20250814T153000
DTEND;TZID=UTC:20250814T173000
DTSTAMP:20260422T062019
CREATED:20250813T213009Z
LAST-MODIFIED:20250808T184613Z
UID:30769-1755185400-1755192600@isak.us
SUMMARY:Children’s Maktab Program
DESCRIPTION:Children’s Maktab Program \nDate: Starts August 6th\, 2024 \nWednesday – Friday; 3:30 – 5:30 PM \nLocation: Islamic Society of Akron and Kent\, 152 E Steels Corners Rd\, Cuyahoga Falls\, OH 44224 \nRegistration Link: isak.org/quran \nEnroll your children today for the ISAK Children’s Maktab program! The after-school program is designed to teach students to learn the skills needed for Qur’anic recitation with its proper pronunciation\, and fluency. \nThis program focuses on teaching Tajweed\, the art of correct pronunciation and recitation of the Qur’an\, to instill a love for the holy text and faster spiritual growth among young learners. \nFor any enrollment questions please contact imam@isak.org
URL:https://isak.us/event/childrens-maktab-program-4/
LOCATION:ISAK\, 152 E Steels Corners Rd\, Cuyahoga Falls\, OH\, 44224\, United States
CATEGORIES:Education,Programs
ATTACH;FMTTYPE=image/png:https://isak.us/wp-content/uploads/2025/08/unnamed-25.png
ORGANIZER;CN="ISAK":MAILTO:aa@isak.org
END:VEVENT
BEGIN:VEVENT
DTSTART;TZID=UTC:20250815T153000
DTEND;TZID=UTC:20250815T173000
DTSTAMP:20260422T062019
CREATED:20250814T213046Z
LAST-MODIFIED:20250808T183830Z
UID:30771-1755271800-1755279000@isak.us
SUMMARY:Children’s Maktab Program
DESCRIPTION:Children’s Maktab Program \nDate: Starts August 6th\, 2024 \nWednesday – Friday; 3:30 – 5:30 PM \nLocation: Islamic Society of Akron and Kent\, 152 E Steels Corners Rd\, Cuyahoga Falls\, OH 44224 \nRegistration Link: isak.org/quran \nEnroll your children today for the ISAK Children’s Maktab program! The after-school program is designed to teach students to learn the skills needed for Qur’anic recitation with its proper pronunciation\, and fluency. \nThis program focuses on teaching Tajweed\, the art of correct pronunciation and recitation of the Qur’an\, to instill a love for the holy text and faster spiritual growth among young learners. \nFor any enrollment questions please contact imam@isak.org
URL:https://isak.us/event/childrens-maktab-program-5/
LOCATION:ISAK Prayer Hall\, 152 E. Steels Corners Rd\, Cuyahoga Falls\, OH\, 44224\, United States
CATEGORIES:Education,Programs
ATTACH;FMTTYPE=image/png:https://isak.us/wp-content/uploads/2025/08/unnamed-25.png
ORGANIZER;CN="ISAK":MAILTO:aa@isak.org
END:VEVENT
BEGIN:VEVENT
DTSTART;TZID=UTC:20250820T153000
DTEND;TZID=UTC:20250820T173000
DTSTAMP:20260422T062019
CREATED:20250815T213045Z
LAST-MODIFIED:20250808T184142Z
UID:30773-1755703800-1755711000@isak.us
SUMMARY:Children’s Maktab Program
DESCRIPTION:Children’s Maktab Program \nDate: Starts August 6th\, 2024 \nWednesday – Friday; 3:30 – 5:30 PM \nLocation: Islamic Society of Akron and Kent\, 152 E Steels Corners Rd\, Cuyahoga Falls\, OH 44224 \nRegistration Link: isak.org/quran \nEnroll your children today for the ISAK Children’s Maktab program! The after-school program is designed to teach students to learn the skills needed for Qur’anic recitation with its proper pronunciation\, and fluency. \nThis program focuses on teaching Tajweed\, the art of correct pronunciation and recitation of the Qur’an\, to instill a love for the holy text and faster spiritual growth among young learners. \nFor any enrollment questions please contact imam@isak.org
URL:https://isak.us/event/childrens-maktab-program-6/
LOCATION:ISAK\, 152 E Steels Corners Rd\, Cuyahoga Falls\, OH\, 44224\, United States
CATEGORIES:Education,Programs
ATTACH;FMTTYPE=image/png:https://isak.us/wp-content/uploads/2025/08/unnamed-25.png
ORGANIZER;CN="ISAK":MAILTO:aa@isak.org
END:VEVENT
BEGIN:VEVENT
DTSTART;TZID=UTC:20250821T153000
DTEND;TZID=UTC:20250821T173000
DTSTAMP:20260422T062019
CREATED:20250820T213001Z
LAST-MODIFIED:20250808T184343Z
UID:30775-1755790200-1755797400@isak.us
SUMMARY:Children’s Maktab Program
DESCRIPTION:Children’s Maktab Program \nDate: Starts August 6th\, 2024 \nWednesday – Friday; 3:30 – 5:30 PM \nLocation: Islamic Society of Akron and Kent\, 152 E Steels Corners Rd\, Cuyahoga Falls\, OH 44224 \nRegistration Link: isak.org/quran \nEnroll your children today for the ISAK Children’s Maktab program! The after-school program is designed to teach students to learn the skills needed for Qur’anic recitation with its proper pronunciation\, and fluency. \nThis program focuses on teaching Tajweed\, the art of correct pronunciation and recitation of the Qur’an\, to instill a love for the holy text and faster spiritual growth among young learners. \nFor any enrollment questions please contact imam@isak.org
URL:https://isak.us/event/childrens-maktab-program-7/
LOCATION:ISAK\, 152 E Steels Corners Rd\, Cuyahoga Falls\, OH\, 44224\, United States
CATEGORIES:Education,Programs
ATTACH;FMTTYPE=image/png:https://isak.us/wp-content/uploads/2025/08/unnamed-25.png
ORGANIZER;CN="ISAK":MAILTO:aa@isak.org
END:VEVENT
BEGIN:VEVENT
DTSTART;TZID=UTC:20250822T153000
DTEND;TZID=UTC:20250822T173000
DTSTAMP:20260422T062019
CREATED:20250821T213057Z
LAST-MODIFIED:20250808T184534Z
UID:30777-1755876600-1755883800@isak.us
SUMMARY:Children’s Maktab Program
DESCRIPTION:Nadwat Al-Qur’an \nRecite • Reflect • Revive \nDate: Every Tuesday\, Thursday & Saturday\, between Maghrib and Isha \nLocation: Islamic Society of Akron and Kent\, 152 E Steels Corners Rd\, Cuyahoga Falls\, OH 44224 \nDon’t miss this blessed opportunity to strengthen your connection with the Qur’an through Tajweed\, Tafseer\, and Translation with Imam Zobair Ahmad. \nLet’s grow together through the Qur’an — one verse at a time. \nBring your heart\, your voice\, and your love for the Book of Allah.
URL:https://isak.us/event/childrens-maktab-program-8/
LOCATION:ISAK\, 152 E Steels Corners Rd\, Cuyahoga Falls\, OH\, 44224\, United States
CATEGORIES:Education,Programs
ATTACH;FMTTYPE=image/png:https://isak.us/wp-content/uploads/2025/08/unnamed-25.png
ORGANIZER;CN="ISAK":MAILTO:aa@isak.org
END:VEVENT
BEGIN:VEVENT
DTSTART;TZID=UTC:20250827T153000
DTEND;TZID=UTC:20250827T173000
DTSTAMP:20260422T062019
CREATED:20250822T213023Z
LAST-MODIFIED:20250815T002501Z
UID:30786-1756308600-1756315800@isak.us
SUMMARY:Children’s Maktab Program
DESCRIPTION:Children’s Maktab Program \nDate: Starts August 6th\, 2024 \nWednesday – Friday; 3:30 – 5:30 PM \nLocation: Islamic Society of Akron and Kent\, 152 E Steels Corners Rd\, Cuyahoga Falls\, OH 44224 \nRegistration Link: isak.org/quran \nEnroll your children today for the ISAK Children’s Maktab program! The after-school program is designed to teach students to learn the skills needed for Qur’anic recitation with its proper pronunciation\, and fluency. \nThis program focuses on teaching Tajweed\, the art of correct pronunciation and recitation of the Qur’an\, to instill a love for the holy text and faster spiritual growth among young learners. \nFor any enrollment questions please contact imam@isak.org
URL:https://isak.us/event/childrens-maktab-program-9/
LOCATION:ISAK\, 152 E Steels Corners Rd\, Cuyahoga Falls\, OH\, 44224\, United States
CATEGORIES:Education,Programs
ATTACH;FMTTYPE=image/png:https://isak.us/wp-content/uploads/2025/08/unnamed-25.png
ORGANIZER;CN="ISAK":MAILTO:aa@isak.org
END:VEVENT
BEGIN:VEVENT
DTSTART;TZID=UTC:20250828T080000
DTEND;TZID=UTC:20250828T170000
DTSTAMP:20260422T062019
CREATED:20250822T213021Z
LAST-MODIFIED:20250815T002637Z
UID:30788-1756368000-1756400400@isak.us
SUMMARY:Children’s Maktab Program
DESCRIPTION:Children’s Maktab Program \nDate: Starts August 6th\, 2024 \nWednesday – Friday; 3:30 – 5:30 PM \nLocation: Islamic Society of Akron and Kent\, 152 E Steels Corners Rd\, Cuyahoga Falls\, OH 44224 \nRegistration Link: isak.org/quran \nEnroll your children today for the ISAK Children’s Maktab program! The after-school program is designed to teach students to learn the skills needed for Qur’anic recitation with its proper pronunciation\, and fluency. \nThis program focuses on teaching Tajweed\, the art of correct pronunciation and recitation of the Qur’an\, to instill a love for the holy text and faster spiritual growth among young learners. \nFor any enrollment questions please contact imam@isak.org
URL:https://isak.us/event/childrens-maktab-program-10/
LOCATION:ISAK\, 152 E Steels Corners Rd\, Cuyahoga Falls\, OH\, 44224\, United States
CATEGORIES:Education,Programs
ATTACH;FMTTYPE=image/png:https://isak.us/wp-content/uploads/2025/08/unnamed-25.png
ORGANIZER;CN="ISAK":MAILTO:aa@isak.org
END:VEVENT
BEGIN:VEVENT
DTSTART;TZID=UTC:20250829T153000
DTEND;TZID=UTC:20250829T173000
DTSTAMP:20260422T062019
CREATED:20250822T213000Z
LAST-MODIFIED:20250815T002804Z
UID:30790-1756481400-1756488600@isak.us
SUMMARY:Children’s Maktab Program
DESCRIPTION:Children’s Maktab Program \nDate: Starts August 6th\, 2024 \nWednesday – Friday; 3:30 – 5:30 PM \nLocation: Islamic Society of Akron and Kent\, 152 E Steels Corners Rd\, Cuyahoga Falls\, OH 44224 \nRegistration Link: isak.org/quran \nEnroll your children today for the ISAK Children’s Maktab program! The after-school program is designed to teach students to learn the skills needed for Qur’anic recitation with its proper pronunciation\, and fluency. \nThis program focuses on teaching Tajweed\, the art of correct pronunciation and recitation of the Qur’an\, to instill a love for the holy text and faster spiritual growth among young learners. \nFor any enrollment questions please contact imam@isak.org
URL:https://isak.us/event/childrens-maktab-program-11/
LOCATION:ISAK\, 152 E Steels Corners Rd\, Cuyahoga Falls\, OH\, 44224\, United States
CATEGORIES:Education,Programs
ATTACH;FMTTYPE=image/png:https://isak.us/wp-content/uploads/2025/08/unnamed-25.png
ORGANIZER;CN="ISAK":MAILTO:aa@isak.org
END:VEVENT
END:VCALENDAR