BEGIN:VCALENDAR
VERSION:2.0
PRODID:-//Islamic Society of Akron and Kent - ECPv5.14.1//NONSGML v1.0//EN
CALSCALE:GREGORIAN
METHOD:PUBLISH
X-WR-CALNAME:Islamic Society of Akron and Kent
X-ORIGINAL-URL:https://isak.us
X-WR-CALDESC:Events for Islamic Society of Akron and Kent
REFRESH-INTERVAL;VALUE=DURATION:PT1H
X-Robots-Tag:noindex
X-PUBLISHED-TTL:PT1H
BEGIN:VTIMEZONE
TZID:UTC
BEGIN:STANDARD
TZOFFSETFROM:+0000
TZOFFSETTO:+0000
TZNAME:UTC
DTSTART:20250101T000000
END:STANDARD
END:VTIMEZONE
BEGIN:VEVENT
DTSTART;TZID=UTC:20250504T140000
DTEND;TZID=UTC:20250504T170000
DTSTAMP:20260421T123218
CREATED:20250421T034109Z
LAST-MODIFIED:20250421T034109Z
UID:30340-1746367200-1746378000@isak.us
SUMMARY:16th Annual AAIC Hunger Walk
DESCRIPTION:Assalamu Alaykum\, \nJoin the Akron Area Interfaith Council (AAIC) and ISAK as we raise money for the Akron-Canton Regional Foodbank! \nFor the past 16 years\, AAIC has organized a Hunger Walk to support the efforts of the Akron-Canton Regional Foodbank. This year\, we invite you to walk with us and support our broader community. \nRecent statistics reveal a troubling rise in food insecurity in Summit County— 13.6% of residents and 20.3% of children are affected. Your support can help alleviate hunger and provide essential resources to those in need. All proceeds will be donated directly to the Akron-Canton Regional Foodbank. \nAs Muslims\, we are taught that giving is not just charity\, it’s a form of ‘ibadah. The Prophet Muhammad (Peace Be Upon Him) said:\n“The believer’s shade on the Day of Resurrection will be their charity”\n(Al-Tirmidhi\, Hadith 604) \nDate: Sunday\, May 4th\, Registration: 2 PM\, Walk: 3 PM \nLocation: Unitarian Universalist Church\, 3300 Morewood Rd\, Fairlawn\, OH 44333 \nDonations:\nISAK.org/hungerwalk \nZelle: donate@isak.org\, type “Hunger Walk”
URL:https://isak.us/event/16th-annual-aaic-hunger-walk/
LOCATION:OH
CATEGORIES:Programs
ATTACH;FMTTYPE=image/jpeg:https://isak.us/wp-content/uploads/2025/04/isak-hungerwalk.jpeg
END:VEVENT
BEGIN:VEVENT
DTSTART;TZID=UTC:20250505T080000
DTEND;TZID=UTC:20250505T170000
DTSTAMP:20260421T123218
CREATED:20250505T221616Z
LAST-MODIFIED:20250505T221616Z
UID:30353-1746432000-1746464400@isak.us
SUMMARY:May 2025 Schedule of Imam Zobair Ahmad
DESCRIPTION:As-salāmu ʿalaykum wa rahmatullāhi wa barakātuh\, \nWe are pleased to share the schedule of our respected Imam Zobair Ahmad for the month of May 2025. Please take note of the following programs and activities: \n📅 WEEKLY PROGRAMS \n* Nadwat ul Quran (Last Ten Surahs): Every Tuesday\, Thursday\, Saturday after Maghrib. \n* Gems from Seerah: Every Wednesday after Maghrib. \n* ISAK Maktab: Tuesday – Thursday\, 3:30 – 5:30 pm. \n* Fajr Khatira: Tuesday – Saturday after Fajr. \n🌟 SPECIAL SATURDAY ACTIVITIES \n* After Fajr: Youth Breakfast \n* After ‘Asr: ISAK Youth \n* After Maghrib: Nadwat ul Quran \n* After ‘Isha: Shabbab Night \n📌 Friday Night Halaqa\n📍 ISAK Community Center\n* May 2\, May 9\, May 16 \n🕌 Jummah Prayer Locations\n* May 9: CSU Campus\n* May 16: ISAK\n* May 30: Kent Masjid \n🌿 Community Events\n* ISAK Youth Workshop: Leading with Modesty as a Mindset\n📍 ISAK Community Center | May 3 after ‘Asr \n* ISAK Links – Hike & Picnic at the Ledges\n📍 Cuyahoga Valley National Park | May 17 @ 3pm \n* Interfaith Program at Church of Our Saviour Episcopal\, Akron\n📍 May 27 @ 6pm \n📢 Important Disclaimers \n1. Counseling Services: ISAK and Imam Zobair do not provide counseling services at this time.\n2. Schedule Changes: All events are subject to change. Prior notifications will be shared for better planning.\n3. Reminders: ISAK will advertise each event beforehand as a general reminder. \nWe encourage everyone to participate and benefit from these programs. May Allah (SWT) bless our efforts and strengthen our community. \nJazakum Allah Khair\, \nIslamic Society of Akron & Kent (ISAK) \n📍 152 E Steels Corners Rd.\, Cuyahoga Falls\, OH 44224\n#ISAK #Community #ImamZobair #May2025Schedule
URL:https://isak.us/event/may-2025-schedule-of-imam-zobair-ahmad/
LOCATION:OH
CATEGORIES:Programs
ATTACH;FMTTYPE=image/jpeg:https://isak.us/wp-content/uploads/2025/05/imams-calendar-isak.jpeg
END:VEVENT
BEGIN:VEVENT
DTSTART;TZID=UTC:20250508T180000
DTEND;TZID=UTC:20250508T200000
DTSTAMP:20260421T123218
CREATED:20250421T034606Z
LAST-MODIFIED:20250506T182548Z
UID:30343-1746727200-1746734400@isak.us
SUMMARY:Interweaving Sacred Prayers Collaborative Community Weaving Project
DESCRIPTION:Date: Thursday\, May 8\, 6-8 PM \nLocation: Summit Artspace\, 140 E Market St\, Akron\, OH 44308 \nRegistration Link: https://www.eventbrite.com/e/interweaving-sacred-prayers-collaborative-tickets-1146440858469?aff=oddtdtcreator \nJoin the Women’s Interfaith Spiritual Heritage and Akron Area Interfaith Council for a community weaving project! The event encourages people of all faiths\, backgrounds\, and cultures to contribute their prayers and reflections into a symbolic art project. No weaving experience needed. \nThis is a wonderful opportunity for the Muslim community to engage in interfaith dialogue\, share the beauty of Islam\, and participate in a creative expression of unity. Through this event\, you can offer da’wah by sharing the richness of Islamic traditions and better understand our fellow community members. Whether through weaving meaningful verses\, sharing dua\, or engaging in conversations\, your presence can form understanding and connection.
URL:https://isak.us/event/interweaving-sacred-prayers-collaborative-community-weaving-project/
LOCATION:Summit Artspace\, 140 E Market St\, Akron\, OH\, United States
CATEGORIES:Programs
ATTACH;FMTTYPE=image/jpeg:https://isak.us/wp-content/uploads/2025/04/isak-interfaith-spiritualheritage.jpeg
END:VEVENT
BEGIN:VEVENT
DTSTART;TZID=UTC:20250508T203000
DTEND;TZID=UTC:20250508T220000
DTSTAMP:20260421T123218
CREATED:20250506T175802Z
LAST-MODIFIED:20250506T175802Z
UID:30372-1746736200-1746741600@isak.us
SUMMARY:Nadwat Al-Qur’an
DESCRIPTION:Recite • Reflect • Revive \nDate: Every Tuesday\, Thursday & Saturday\, between Maghrib and Isha \nLocation: Islamic Society of Akron and Kent\, 152 E Steels Corners Rd\, Cuyahoga Falls\, OH 44224 \nDon’t miss this blessed opportunity to strengthen your connection with the Qur’an through Tajweed\, Tafseer\, and Translation with Imam Zobair Ahmad. \nLet’s grow together through the Qur’an — one verse at a time. \nBring your heart\, your voice\, and your love for the Book of Allah.
URL:https://isak.us/event/nadwat-al-quran/
LOCATION:ISAK Prayer Hall\, 152 E. Steels Corners Rd\, Cuyahoga Falls\, OH\, 44224\, United States
CATEGORIES:Programs
ATTACH;FMTTYPE=image/jpeg:https://isak.us/wp-content/uploads/2025/05/unnamed-1.jpg
ORGANIZER;CN="ISAK":MAILTO:aa@isak.org
END:VEVENT
BEGIN:VEVENT
DTSTART;TZID=UTC:20250510T180000
DTEND;TZID=UTC:20250510T200000
DTSTAMP:20260421T123218
CREATED:20250508T061659Z
LAST-MODIFIED:20250508T064428Z
UID:30421-1746900000-1746907200@isak.us
SUMMARY:Community Resources Event with CAIR-Ohio and ASIA
DESCRIPTION:Date: Saturday\, May 10th\, 6:00 – 8:00 PM \nLocation: Islamic Society of Akron and Kent\, 152 E Steels Corners Rd\, Cuyahoga Falls\, OH 44224 Free Admission! \nJoin us for a powerful evening of resources and support for our community! Come ready with your questions! Learn what CAIR\, ASIA\, and Ahimsa can offer YOU and meet people who are here to help! \nCome and connect with representatives from: \nASIA (Asian Services in Action) Immigration & Family Law info – meet our attorney! \nLearn about services in Arabic & English \nMeet: \nNathanial Johnson – Senior Bilingual Staff Attorney \nLamees Abuhashim – Senior Bilingual Advocate/Interpreter \nFarah Kawtharani – Legal & Cultural Needs Evaluator \nCAIR Ohio – Civil Rights\, Legal Services & Advocacy \nMeet: \nSr. Faten Odeh- CAIR Cleveland Executive Director \nSr. Jenna Muhieddine \nDon’t miss this opportunity to get informed and empowered!
URL:https://isak.us/event/community-resources-event-with-cair-ohio-and-asia/
LOCATION:Islamic Community Hall\, 152 East Steels Corner Rd\, Cuyahoga Falls\, OH\, 44224\, United States
CATEGORIES:Programs
ATTACH;FMTTYPE=image/jpeg:https://isak.us/wp-content/uploads/2025/05/unnamed-2-1.jpg
ORGANIZER;CN="ISAK":MAILTO:aa@isak.org
END:VEVENT
BEGIN:VEVENT
DTSTART;TZID=UTC:20250516T133000
DTEND;TZID=UTC:20250516T220000
DTSTAMP:20260421T123218
CREATED:20250516T151234Z
LAST-MODIFIED:20250516T151234Z
UID:30435-1747402200-1747432800@isak.us
SUMMARY:Imam Friday Schedule - May 16th\, 2025
DESCRIPTION:Friday Schedule – Shaykh Zobair Ahmad \nDate: Friday\, May 16th\, 2025 \nCourage through Faith – 1:30 PM \nReflections on Death and Afterlife – Halaqa After Maghrib \nLocation: Islamic Society of Akron and Kent\, 152 E Steels Corners Rd\, Cuyahoga Falls\, OH 44224
URL:https://isak.us/event/imam-friday-schedule-may-16th-2025/
LOCATION:ISAK Prayer Hall\, 152 E. Steels Corners Rd\, Cuyahoga Falls\, OH\, 44224\, United States
CATEGORIES:Halaqa,Programs
ATTACH;FMTTYPE=image/png:https://isak.us/wp-content/uploads/2025/05/unnamed-2.png
ORGANIZER;CN="ISAK":MAILTO:aa@isak.org
END:VEVENT
BEGIN:VEVENT
DTSTART;TZID=UTC:20250520T083000
DTEND;TZID=UTC:20250520T220000
DTSTAMP:20260421T123218
CREATED:20250516T151619Z
LAST-MODIFIED:20250516T151619Z
UID:30438-1747729800-1747778400@isak.us
SUMMARY:Nadwat Al-Quran
DESCRIPTION:Nadwat Al-Quran \nRecite • Reflect • Revive \nDate: Every Tuesday\, Thursday & Saturday\, between Maghrib and Isha \nLocation: Islamic Society of Akron and Kent\, 152 E Steels Corners Rd\, Cuyahoga Falls\, OH 44224 \nDon’t miss this blessed opportunity to strengthen your connection with the Qur’an through Tajweed\, Tafseer\, and Translation with Imam Zobair Ahmad. \nLet’s grow together through the Qur’an — one verse at a time. \nBring your heart\, your voice\, and your love for the Book of Allah.
URL:https://isak.us/event/nadwat-al-quran-2/
LOCATION:ISAK Prayer Hall\, 152 E. Steels Corners Rd\, Cuyahoga Falls\, OH\, 44224\, United States
CATEGORIES:Programs
ATTACH;FMTTYPE=image/jpeg:https://isak.us/wp-content/uploads/2025/05/unnamed-1.jpg
ORGANIZER;CN="ISAK":MAILTO:aa@isak.org
END:VEVENT
BEGIN:VEVENT
DTSTART;TZID=UTC:20250523T133000
DTEND;TZID=UTC:20250523T220000
DTSTAMP:20260421T123218
CREATED:20250523T003433Z
LAST-MODIFIED:20250523T003433Z
UID:30455-1748007000-1748037600@isak.us
SUMMARY:Friday Schedule - May 23\, 2025
DESCRIPTION:Maintaining the Islamic Identity – Shaykh Maqsood Sher \nDate: Friday\, May 23rd\, 2025 \nJummah Khutbah – 1:30 PM \nFriday Halaqa – Halaqa After Maghrib \nLocation: Islamic Society of Akron and Kent\, 152 E Steels Corners Rd\, Cuyahoga Falls\, OH 44224
URL:https://isak.us/event/friday-schedule-may-23-2025/
LOCATION:ISAK Prayer Hall\, 152 E. Steels Corners Rd\, Cuyahoga Falls\, OH\, 44224\, United States
CATEGORIES:Halaqa,Programs
ATTACH;FMTTYPE=image/png:https://isak.us/wp-content/uploads/2025/05/unnamed-5.png
ORGANIZER;CN="ISAK":MAILTO:aa@isak.org
END:VEVENT
BEGIN:VEVENT
DTSTART;TZID=UTC:20250524T203000
DTEND;TZID=UTC:20250524T220000
DTSTAMP:20260421T123218
CREATED:20250523T004030Z
LAST-MODIFIED:20250523T004030Z
UID:30461-1748118600-1748124000@isak.us
SUMMARY:Nadwat Al-Qur’an
DESCRIPTION:Nadwat Al-Qur’an \nRecite • Reflect • Revive \nDate: Every Tuesday\, Thursday & Saturday\, between Maghrib and Isha \nLocation: Islamic Society of Akron and Kent\, 152 E Steels Corners Rd\, Cuyahoga Falls\, OH 44224 \nDon’t miss this blessed opportunity to strengthen your connection with the Qur’an through Tajweed\, Tafseer\, and Translation with Imam Zobair Ahmad. \nLet’s grow together through the Qur’an — one verse at a time. \nBring your heart\, your voice\, and your love for the Book of Allah.
URL:https://isak.us/event/nadwat-al-quran-3/
LOCATION:ISAK Prayer Hall\, 152 E. Steels Corners Rd\, Cuyahoga Falls\, OH\, 44224\, United States
CATEGORIES:Programs
ATTACH;FMTTYPE=image/jpeg:https://isak.us/wp-content/uploads/2025/05/unnamed-1.jpg
ORGANIZER;CN="ISAK":MAILTO:aa@isak.org
END:VEVENT
BEGIN:VEVENT
DTSTART;TZID=UTC:20250527T203000
DTEND;TZID=UTC:20250527T220000
DTSTAMP:20260421T123218
CREATED:20250525T020046Z
LAST-MODIFIED:20250523T005955Z
UID:30471-1748377800-1748383200@isak.us
SUMMARY:Nadwat Al-Quran
DESCRIPTION:Nadwat Al-Qur’an \nRecite • Reflect • Revive \nDate: Every Tuesday\, Thursday & Saturday\, between Maghrib and Isha \nLocation: Islamic Society of Akron and Kent\, 152 E Steels Corners Rd\, Cuyahoga Falls\, OH 44224 \nDon’t miss this blessed opportunity to strengthen your connection with the Qur’an through Tajweed\, Tafseer\, and Translation with Imam Zobair Ahmad. \nLet’s grow together through the Qur’an — one verse at a time. \nBring your heart\, your voice\, and your love for the Book of Allah.
URL:https://isak.us/event/nadwat-al-quran-4/
LOCATION:ISAK Prayer Hall\, 152 E. Steels Corners Rd\, Cuyahoga Falls\, OH\, 44224\, United States
CATEGORIES:Programs
ATTACH;FMTTYPE=image/jpeg:https://isak.us/wp-content/uploads/2025/05/unnamed-1.jpg
ORGANIZER;CN="ISAK":MAILTO:aa@isak.org
END:VEVENT
BEGIN:VEVENT
DTSTART;TZID=UTC:20250529T203000
DTEND;TZID=UTC:20250529T220000
DTSTAMP:20260421T123218
CREATED:20250528T020011Z
LAST-MODIFIED:20250523T005543Z
UID:30473-1748550600-1748556000@isak.us
SUMMARY:Nadwat Al-Quran
DESCRIPTION:Nadwat Al-Qur’an \nRecite • Reflect • Revive \nDate: Every Tuesday\, Thursday & Saturday\, between Maghrib and Isha \nLocation: Islamic Society of Akron and Kent\, 152 E Steels Corners Rd\, Cuyahoga Falls\, OH 44224 \nDon’t miss this blessed opportunity to strengthen your connection with the Qur’an through Tajweed\, Tafseer\, and Translation with Imam Zobair Ahmad. \nLet’s grow together through the Qur’an — one verse at a time. \nBring your heart\, your voice\, and your love for the Book of Allah.
URL:https://isak.us/event/nadwat-al-quran-5/
LOCATION:ISAK Prayer Hall\, 152 E. Steels Corners Rd\, Cuyahoga Falls\, OH\, 44224\, United States
CATEGORIES:Programs
ATTACH;FMTTYPE=image/jpeg:https://isak.us/wp-content/uploads/2025/05/unnamed-1.jpg
ORGANIZER;CN="ISAK":MAILTO:aa@isak.org
END:VEVENT
BEGIN:VEVENT
DTSTART;TZID=UTC:20250530T133000
DTEND;TZID=UTC:20250530T220000
DTSTAMP:20260421T123218
CREATED:20250530T041640Z
LAST-MODIFIED:20250530T041640Z
UID:30476-1748611800-1748642400@isak.us
SUMMARY:Friday Schedule - May 30\, 2025
DESCRIPTION:The Ten Beloved Days \nShaykh Musa Sugapong \nDate: Friday\, May 30th\, 2025 \nJummah Khutbah – 1:30 PM \nFriday Halaqa – Halaqa After Maghrib \nLocation: Islamic Society of Akron and Kent\, 152 E Steels Corners Rd\, Cuyahoga Falls\, OH 44224
URL:https://isak.us/event/friday-schedule-may-30-2025/
LOCATION:ISAK Prayer Hall\, 152 E. Steels Corners Rd\, Cuyahoga Falls\, OH\, 44224\, United States
CATEGORIES:Halaqa,Programs
ATTACH;FMTTYPE=image/png:https://isak.us/wp-content/uploads/2025/05/unnamed-2-1.png
ORGANIZER;CN="ISAK":MAILTO:aa@isak.org
END:VEVENT
BEGIN:VEVENT
DTSTART;TZID=UTC:20250531T173000
DTEND;TZID=UTC:20250531T203000
DTSTAMP:20260421T123218
CREATED:20250523T003738Z
LAST-MODIFIED:20250523T003738Z
UID:30458-1748712600-1748723400@isak.us
SUMMARY:1948: Creation and Catastrophe Film Night
DESCRIPTION:1948: Creation and Catastrophe \nFilm Night: A Deeper Look and Discussion of the Nakba \nDate: Saturday\, May 31st\, 5:45 PM \nLocation: Islamic Society of Akron and Kent\, 152 E Steels Corners Rd\, Cuyahoga Falls\, OH 44224 \nJoin the Palestinian Youth Movement and ISAK for a special screening of 1948: Creation and Catastrophe\, a powerful documentary recounting the Nakba through eyewitness testimonies and personal stories. Learn about the 1948 expulsion of over 750\,000 Palestinians and how it shapes the ongoing struggle for justice today!
URL:https://isak.us/event/1948-creation-and-catastrophe-film-night/
LOCATION:Islamic Community Hall\, 152 East Steels Corner Rd\, Cuyahoga Falls\, OH\, 44224\, United States
CATEGORIES:Programs
ATTACH;FMTTYPE=image/jpeg:https://isak.us/wp-content/uploads/2025/05/unnamed-4-1.jpg
ORGANIZER;CN="ISAK":MAILTO:aa@isak.org
END:VEVENT
END:VCALENDAR