BEGIN:VCALENDAR
VERSION:2.0
PRODID:-//Islamic Society of Akron and Kent - ECPv5.14.1//NONSGML v1.0//EN
CALSCALE:GREGORIAN
METHOD:PUBLISH
X-WR-CALNAME:Islamic Society of Akron and Kent
X-ORIGINAL-URL:https://isak.us
X-WR-CALDESC:Events for Islamic Society of Akron and Kent
REFRESH-INTERVAL;VALUE=DURATION:PT1H
X-Robots-Tag:noindex
X-PUBLISHED-TTL:PT1H
BEGIN:VTIMEZONE
TZID:UTC
BEGIN:STANDARD
TZOFFSETFROM:+0000
TZOFFSETTO:+0000
TZNAME:UTC
DTSTART:20250101T000000
END:STANDARD
END:VTIMEZONE
BEGIN:VEVENT
DTSTART;TZID=UTC:20250426T190000
DTEND;TZID=UTC:20250426T200000
DTSTAMP:20260422T021436
CREATED:20250421T034807Z
LAST-MODIFIED:20250421T034807Z
UID:30347-1745694000-1745697600@isak.us
SUMMARY:Immigration - Know Your Rights!
DESCRIPTION:Date: Friday\, April 27th\, 2025\, 7:00-9:15 PM \nLocation: Islamic Society of Akron and Kent\, 152 E Steels Corners Rd\, Cuyahoga Falls\, OH 44224 \nFree Childcare Provided! \nJoin us for an important and empowering event focused on immigrant rights and safety! \n\nLearn what to do if ICE shows up\nUnderstand your rights if detained\nBuild a personal safety plan\n\nGuest Speaker: Bilal Ahmed – Immigration attorney with the International Institute of Akron (IIA)\, specializing in refugee and immigrant support\, family reunification\, and asylum issues. \nBrought to you by ISAK\, International Institute of Akron\, Akron Palestine Solidarity Collective\, and Party for Socialism and Liberation. \nGet your questions answered and protect your rights!
URL:https://isak.us/event/immigration-know-your-rights/
LOCATION:Islamic Community Hall\, 152 East Steels Corner Rd\, Cuyahoga Falls\, OH\, 44224\, United States
CATEGORIES:Programs
ATTACH;FMTTYPE=image/jpeg:https://isak.us/wp-content/uploads/2025/04/isak-immigrationknowyourrights.jpeg
END:VEVENT
END:VCALENDAR