BEGIN:VCALENDAR
VERSION:2.0
PRODID:-//Islamic Society of Akron and Kent - ECPv5.14.1//NONSGML v1.0//EN
CALSCALE:GREGORIAN
METHOD:PUBLISH
X-WR-CALNAME:Islamic Society of Akron and Kent
X-ORIGINAL-URL:https://isak.us
X-WR-CALDESC:Events for Islamic Society of Akron and Kent
REFRESH-INTERVAL;VALUE=DURATION:PT1H
X-Robots-Tag:noindex
X-PUBLISHED-TTL:PT1H
BEGIN:VTIMEZONE
TZID:UTC
BEGIN:STANDARD
TZOFFSETFROM:+0000
TZOFFSETTO:+0000
TZNAME:UTC
DTSTART:20250101T000000
END:STANDARD
END:VTIMEZONE
BEGIN:VEVENT
DTSTART;TZID=UTC:20251116T183000
DTEND;TZID=UTC:20251116T213000
DTSTAMP:20260419T152211
CREATED:20251107T162556Z
LAST-MODIFIED:20251107T162556Z
UID:31092-1763317800-1763328600@isak.us
SUMMARY:One Ummah\, One Heart: Together for Gaza Fundraiser
DESCRIPTION:One Ummah\, One Heart — Together for Gaza \nDate: Sunday\, November 16th\, 2025\, 6:30 PM \nLocation: Islamic Society of Akron and Kent\, 152 E Steels Corners Rd\, Cuyahoga Falls\, OH 44224 \nRegistration link: ISAK.org/GAZA \nIf you are a student or in need of a discount on tickets\, use code MSA4GAZA at checkout! \nJoin us at the Islamic Society of Akron and Kent (ISAK) for a powerful evening of solidarity\, reflection\, and action for Gaza. \nFeaturing: Dr. Amani Kettaneh\, Captain Josephine Guilbeau\, and Keynote Speaker Linda Sarsour \nThe Charity: Peace Dove Campaign \nDonation Link: ISAK.org/D4G \nThis is a special volunteer-run organization with ZERO overhead costs\, allowing EVERY DOLLAR donated to reach the people of Gaza\, without anything going to waste. Let’s come together as a community to support our brothers and sisters in Gaza and stand for justice and humanity.
URL:https://isak.us/event/one-ummah-one-heart-together-for-gaza-fundraiser/
LOCATION:Islamic Community Hall\, 152 East Steels Corner Rd\, Cuyahoga Falls\, OH\, 44224\, United States
CATEGORIES:Fundraiser,Outreach Programming
ATTACH;FMTTYPE=image/jpeg:https://isak.us/wp-content/uploads/2025/11/unnamed.jpg
ORGANIZER;CN="ISAK":MAILTO:aa@isak.org
END:VEVENT
END:VCALENDAR