BEGIN:VCALENDAR
VERSION:2.0
PRODID:-//Islamic Society of Akron and Kent - ECPv5.14.1//NONSGML v1.0//EN
CALSCALE:GREGORIAN
METHOD:PUBLISH
X-WR-CALNAME:Islamic Society of Akron and Kent
X-ORIGINAL-URL:http://isak.us
X-WR-CALDESC:Events for Islamic Society of Akron and Kent
REFRESH-INTERVAL;VALUE=DURATION:PT1H
X-Robots-Tag:noindex
X-PUBLISHED-TTL:PT1H
BEGIN:VTIMEZONE
TZID:UTC
BEGIN:STANDARD
TZOFFSETFROM:+0000
TZOFFSETTO:+0000
TZNAME:UTC
DTSTART:20250101T000000
END:STANDARD
END:VTIMEZONE
BEGIN:VEVENT
DTSTART;TZID=UTC:20251024T153000
DTEND;TZID=UTC:20251024T173000
DTSTAMP:20260420T163605
CREATED:20251017T213026Z
LAST-MODIFIED:20251014T203519Z
UID:31011-1761319800-1761327000@isak.us
SUMMARY:Children’s Maktab Program
DESCRIPTION:Children’s Maktab Program \nDate: Wednesday – Friday; 3:30 – 5:30 PM \nLocation: Islamic Society of Akron and Kent\, 152 E Steels Corners Rd\, Cuyahoga Falls\, OH 44224 \nRegistration Link: isak.org/quran \nEnroll your children today for the ISAK Children’s Maktab program! The after-school program is designed to teach students to learn the skills needed for Qur’anic recitation with its proper pronunciation\, and fluency. \nThis program focuses on teaching Tajweed\, the art of correct pronunciation and recitation of the Qur’an\, to instill a love for the holy text and faster spiritual growth among young learners. \nFor any enrollment questions please contact imam@isak.org
URL:http://isak.us/event/childrens-maktab-program-35/
LOCATION:ISAK\, 152 E Steels Corners Rd\, Cuyahoga Falls\, OH\, 44224\, United States
CATEGORIES:Classes,Youth Services
ATTACH;FMTTYPE=image/png:http://isak.us/wp-content/uploads/2025/08/unnamed-25.png
ORGANIZER;CN="ISAK":MAILTO:aa@isak.org
END:VEVENT
BEGIN:VEVENT
DTSTART;TZID=UTC:20251024T163000
DTEND;TZID=UTC:20251024T180000
DTSTAMP:20260420T163605
CREATED:20251024T131026Z
LAST-MODIFIED:20251024T131026Z
UID:31024-1761323400-1761328800@isak.us
SUMMARY:Masjid Matters! - ISAK Young Muslims
DESCRIPTION:Masjid Matters! \nDate: Friday\, October 24th\, 2025\, 4:30 – 6:00 PM \nLocation: Islamic Society of Akron and Kent\, 152 E Steels Corners Rd\, Cuyahoga Falls\, OH 44224 \nRegistration Required: https://forms.gle/YFJi2hEFgYQhBYa67 \nAges 9-12 years only! \nAs Salaam Alaykum parents! \nWe are excited to be hosting a community service event this Friday! Your children will have the opportunity to help keep the masjid clean and enjoy some snacks and games afterwards! We look forward to seeing you all there! \nPlease register your child as soon as possible as possible. Please enter one child per submission
URL:http://isak.us/event/masjid-matters-isak-young-muslims/
LOCATION:ISAK\, 152 E Steels Corners Rd\, Cuyahoga Falls\, OH\, 44224\, United States
CATEGORIES:Youth Services
ATTACH;FMTTYPE=image/jpeg:http://isak.us/wp-content/uploads/2025/10/unnamed-6.jpg
ORGANIZER;CN="ISAK":MAILTO:aa@isak.org
END:VEVENT
END:VCALENDAR