BEGIN:VCALENDAR
VERSION:2.0
PRODID:-//Islamic Society of Akron and Kent - ECPv5.14.1//NONSGML v1.0//EN
CALSCALE:GREGORIAN
METHOD:PUBLISH
X-WR-CALNAME:Islamic Society of Akron and Kent
X-ORIGINAL-URL:http://isak.us
X-WR-CALDESC:Events for Islamic Society of Akron and Kent
REFRESH-INTERVAL;VALUE=DURATION:PT1H
X-Robots-Tag:noindex
X-PUBLISHED-TTL:PT1H
BEGIN:VTIMEZONE
TZID:UTC
BEGIN:STANDARD
TZOFFSETFROM:+0000
TZOFFSETTO:+0000
TZNAME:UTC
DTSTART:20250101T000000
END:STANDARD
END:VTIMEZONE
BEGIN:VEVENT
DTSTART;TZID=UTC:20251005T143000
DTEND;TZID=UTC:20251005T173000
DTSTAMP:20260421T022514
CREATED:20251002T234609Z
LAST-MODIFIED:20251002T234609Z
UID:30976-1759674600-1759685400@isak.us
SUMMARY:Career Catalyst For Students and Professionals - ISAK LINKS
DESCRIPTION:Career Catalyst For Students and Professionals \nDate: Sunday\, October 5th\, 2025\, 2:30 PM \nLocation: Islamic Society of Akron and Kent\, 152 E Steels Corners Rd\, Cuyahoga Falls\, OH 44224 \nCome learn about the best ways to advance your career with proven tips and techniques for networking\, interviewing\, and self marketing. \nWe will also be having a meal afterwards so bring your appetite!
URL:http://isak.us/event/career-catalyst-for-students-and-professionals-isak-links/
LOCATION:ISAK\, 152 E Steels Corners Rd\, Cuyahoga Falls\, OH\, 44224\, United States
CATEGORIES:Youth Services
ATTACH;FMTTYPE=image/jpeg:http://isak.us/wp-content/uploads/2025/10/unnamed-3.jpg
ORGANIZER;CN="ISAK":MAILTO:aa@isak.org
END:VEVENT
END:VCALENDAR