BEGIN:VCALENDAR
VERSION:2.0
PRODID:-//Islamic Society of Akron and Kent - ECPv5.14.1//NONSGML v1.0//EN
CALSCALE:GREGORIAN
METHOD:PUBLISH
X-WR-CALNAME:Islamic Society of Akron and Kent
X-ORIGINAL-URL:http://isak.us
X-WR-CALDESC:Events for Islamic Society of Akron and Kent
REFRESH-INTERVAL;VALUE=DURATION:PT1H
X-Robots-Tag:noindex
X-PUBLISHED-TTL:PT1H
BEGIN:VTIMEZONE
TZID:UTC
BEGIN:STANDARD
TZOFFSETFROM:+0000
TZOFFSETTO:+0000
TZNAME:UTC
DTSTART:20250101T000000
END:STANDARD
END:VTIMEZONE
BEGIN:VEVENT
DTSTART;TZID=UTC:20251004T190000
DTEND;TZID=UTC:20251004T210000
DTSTAMP:20260421T052312
CREATED:20251002T234133Z
LAST-MODIFIED:20251002T234133Z
UID:30972-1759604400-1759611600@isak.us
SUMMARY:Youth Bonfire Night
DESCRIPTION:Youth Bonfire Night \nDate: Saturday\, October 4th\, 2025\, 7:00 – 9:00 PM \nLocation: ISAK Parking Lot\, Islamic Society of Akron and Kent\, 152 E Steels Corners Rd\, Cuyahoga Falls\, OH 44224 \nJoin us for a night of fire\, fun\, and friends under the stars.\nGames • Snacks • Music • Memories you won’t forget! \nAges 13+
URL:http://isak.us/event/youth-bonfire-night/
LOCATION:ISAK Parking Lot\, 152 E Steels Corners Rd\, Cuyahoga Falls\, OH\, 44224\, United States
CATEGORIES:Youth Services
ATTACH;FMTTYPE=image/jpeg:http://isak.us/wp-content/uploads/2025/10/unnamed-2.jpg
ORGANIZER;CN="ISAK":MAILTO:aa@isak.org
END:VEVENT
END:VCALENDAR