BEGIN:VCALENDAR
VERSION:2.0
PRODID:-//Islamic Society of Akron and Kent - ECPv5.14.1//NONSGML v1.0//EN
CALSCALE:GREGORIAN
METHOD:PUBLISH
X-WR-CALNAME:Islamic Society of Akron and Kent
X-ORIGINAL-URL:http://isak.us
X-WR-CALDESC:Events for Islamic Society of Akron and Kent
REFRESH-INTERVAL;VALUE=DURATION:PT1H
X-Robots-Tag:noindex
X-PUBLISHED-TTL:PT1H
BEGIN:VTIMEZONE
TZID:UTC
BEGIN:STANDARD
TZOFFSETFROM:+0000
TZOFFSETTO:+0000
TZNAME:UTC
DTSTART:20260101T000000
END:STANDARD
END:VTIMEZONE
BEGIN:VEVENT
DTSTART;TZID=UTC:20260321T140000
DTEND;TZID=UTC:20260321T210000
DTSTAMP:20260424T084405
CREATED:20260313T122911Z
LAST-MODIFIED:20260313T122906Z
UID:31330-1774101600-1774126800@isak.us
SUMMARY:Eid Festival
DESCRIPTION:Eid Festival \nDate: Saturday\, March 21st\, 2026\, 2:00 – 9:00 PM \nLocation: Islamic Society of Akron and Kent\, 152 E Steels Corners Rd\, Cuyahoga Falls\, OH 44224 \nGet ready for a day of joy\, community\, and celebration at our Eid Festival! \nBring your family and friends and experience an unforgettable event filled with fun\, laughter\, and festive spirit for all ages. \n• Bouncy house\n• Balloon artist\n• Food trucks\n• Bazaar shopping\n• Henna station\n• Petting zoo\n• Train rides\n• And so much more \nWhether you’re coming for the food\, the activities\, or simply to connect with the community\, there’s something here for everyone. And yes — admission is free. \nInterested in being a vendor?\nRegister at ISAK.org/vendor or scan the QR code to secure your spot.
URL:http://isak.us/event/eid-festival/
LOCATION:ISAK\, 152 E Steels Corners Rd\, Cuyahoga Falls\, OH\, 44224\, United States
CATEGORIES:Eid Celebration
ATTACH;FMTTYPE=image/jpeg:http://isak.us/wp-content/uploads/2026/02/WhatsApp-Image-2026-02-27-at-9.30.41-AM.jpeg
END:VEVENT
END:VCALENDAR