BEGIN:VCALENDAR
VERSION:2.0
PRODID:-//Islamic Society of Akron and Kent - ECPv5.14.1//NONSGML v1.0//EN
CALSCALE:GREGORIAN
METHOD:PUBLISH
X-WR-CALNAME:Islamic Society of Akron and Kent
X-ORIGINAL-URL:http://isak.us
X-WR-CALDESC:Events for Islamic Society of Akron and Kent
REFRESH-INTERVAL;VALUE=DURATION:PT1H
X-Robots-Tag:noindex
X-PUBLISHED-TTL:PT1H
BEGIN:VTIMEZONE
TZID:UTC
BEGIN:STANDARD
TZOFFSETFROM:+0000
TZOFFSETTO:+0000
TZNAME:UTC
DTSTART:20260101T000000
END:STANDARD
END:VTIMEZONE
BEGIN:VEVENT
DTSTART;TZID=UTC:20260320T073000
DTEND;TZID=UTC:20260320T103000
DTSTAMP:20260424T084451
CREATED:20260320T113319Z
LAST-MODIFIED:20260320T113319Z
UID:31378-1773991800-1774002600@isak.us
SUMMARY:2026 Eid al-Fitr Prayer Services
DESCRIPTION:ISAK Islamic Community Center \n152 E Steels Corners Rd\, Cuyahoga Falls\, OH 44224 – Main Musallah \nFirst Prayer – Imam Nader Taha \n\nTakbeerat: 7:30 AM\nSalah & Khutbah: 8:00 AM\n\nSecond Prayer – Shaykh Zobair Ahmad \n\nTakbeerat: 9:30 AM\nSalah & Khutbah: 10:00 AM\n\nISAK Masjed of Kent \n325 Crain Ave\, Kent\, OH 44240 \nPrayer – Brother Jamal Ghumrawi \n\nTakbeerat: 7:30 AM\nSalah & Khutbah: 8:00 AM\n\nPlease plan ahead and arrive early. Carpooling is highly recommended.
URL:http://isak.us/event/2026-eid-al-fitr-prayer-services/
CATEGORIES:Eid Celebration
ATTACH;FMTTYPE=image/png:http://isak.us/wp-content/uploads/2026/03/unnamed-14.png
END:VEVENT
END:VCALENDAR