BEGIN:VCALENDAR
VERSION:2.0
PRODID:-//Islamic Society of Akron and Kent - ECPv5.14.1//NONSGML v1.0//EN
CALSCALE:GREGORIAN
METHOD:PUBLISH
X-WR-CALNAME:Islamic Society of Akron and Kent
X-ORIGINAL-URL:http://isak.us
X-WR-CALDESC:Events for Islamic Society of Akron and Kent
REFRESH-INTERVAL;VALUE=DURATION:PT1H
X-Robots-Tag:noindex
X-PUBLISHED-TTL:PT1H
BEGIN:VTIMEZONE
TZID:UTC
BEGIN:STANDARD
TZOFFSETFROM:+0000
TZOFFSETTO:+0000
TZNAME:UTC
DTSTART:20260101T000000
END:STANDARD
END:VTIMEZONE
BEGIN:VEVENT
DTSTART;TZID=UTC:20260227T153000
DTEND;TZID=UTC:20260227T173000
DTSTAMP:20260420T082651
CREATED:20260220T171925Z
LAST-MODIFIED:20260220T171925Z
UID:31297-1772206200-1772213400@isak.us
SUMMARY:Children’s Maktab Program
DESCRIPTION:Children’s Maktab Program \nDate: Wednesday – Friday; 3:30 – 5:30 PM \nLocation: Islamic Society of Akron and Kent\, 152 E Steels Corners Rd\, Cuyahoga Falls\, OH 44224 \nRegistration Link: isak.org/quran \nEnroll your children today for the ISAK Children’s Maktab program! The after-school program is designed to teach students to learn the skills needed for Qur’anic recitation with its proper pronunciation\, and fluency. \nThis program focuses on teaching Tajweed\, the art of correct pronunciation and recitation of the Qur’an\, to instill a love for the holy text and faster spiritual growth among young learners. \nFor any enrollment questions please contact imam@isak.org
URL:http://isak.us/event/childrens-maktab-program-66/
LOCATION:ISAK\, 152 E Steels Corners Rd\, Cuyahoga Falls\, OH\, 44224\, United States
CATEGORIES:Classes,Youth Services
ATTACH;FMTTYPE=image/png:http://isak.us/wp-content/uploads/2025/08/unnamed-25.png
ORGANIZER;CN="ISAK":MAILTO:aa@isak.org
END:VEVENT
BEGIN:VEVENT
DTSTART;TZID=UTC:20260304T153000
DTEND;TZID=UTC:20260304T173000
DTSTAMP:20260420T082651
CREATED:20260301T050056Z
LAST-MODIFIED:20260227T180954Z
UID:31323-1772638200-1772645400@isak.us
SUMMARY:Children’s Maktab Program
DESCRIPTION:Children’s Maktab Program \nDate: Wednesday – Friday; 3:30 – 5:30 PM \nLocation: Islamic Society of Akron and Kent\, 152 E Steels Corners Rd\, Cuyahoga Falls\, OH 44224 \nRegistration Link: isak.org/quran \nEnroll your children today for the ISAK Children’s Maktab program! The after-school program is designed to teach students to learn the skills needed for Qur’anic recitation with its proper pronunciation\, and fluency. \nThis program focuses on teaching Tajweed\, the art of correct pronunciation and recitation of the Qur’an\, to instill a love for the holy text and faster spiritual growth among young learners. \nFor any enrollment questions please contact imam@isak.org
URL:http://isak.us/event/childrens-maktab-program-67/
LOCATION:ISAK\, 152 E Steels Corners Rd\, Cuyahoga Falls\, OH\, 44224\, United States
CATEGORIES:Classes,Youth Services
ATTACH;FMTTYPE=image/png:http://isak.us/wp-content/uploads/2025/08/unnamed-25.png
END:VEVENT
BEGIN:VEVENT
DTSTART;TZID=UTC:20260305T153000
DTEND;TZID=UTC:20260305T173000
DTSTAMP:20260420T082651
CREATED:20260301T050007Z
LAST-MODIFIED:20260227T181119Z
UID:31326-1772724600-1772731800@isak.us
SUMMARY:Children’s Maktab Program
DESCRIPTION:Children’s Maktab Program \nDate: Wednesday – Friday; 3:30 – 5:30 PM \nLocation: Islamic Society of Akron and Kent\, 152 E Steels Corners Rd\, Cuyahoga Falls\, OH 44224 \nRegistration Link: isak.org/quran \nEnroll your children today for the ISAK Children’s Maktab program! The after-school program is designed to teach students to learn the skills needed for Qur’anic recitation with its proper pronunciation\, and fluency. \nThis program focuses on teaching Tajweed\, the art of correct pronunciation and recitation of the Qur’an\, to instill a love for the holy text and faster spiritual growth among young learners. \nFor any enrollment questions please contact imam@isak.org
URL:http://isak.us/event/childrens-maktab-program-68/
LOCATION:ISAK\, 152 E Steels Corners Rd\, Cuyahoga Falls\, OH\, 44224\, United States
CATEGORIES:Classes,Youth Services
ATTACH;FMTTYPE=image/png:http://isak.us/wp-content/uploads/2025/08/unnamed-25.png
END:VEVENT
BEGIN:VEVENT
DTSTART;TZID=UTC:20260306T153000
DTEND;TZID=UTC:20260306T173000
DTSTAMP:20260420T082651
CREATED:20260301T050027Z
LAST-MODIFIED:20260227T181314Z
UID:31328-1772811000-1772818200@isak.us
SUMMARY:Children’s Maktab Program
DESCRIPTION:Children’s Maktab Program \nDate: Wednesday – Friday; 3:30 – 5:30 PM \nLocation: Islamic Society of Akron and Kent\, 152 E Steels Corners Rd\, Cuyahoga Falls\, OH 44224 \nRegistration Link: isak.org/quran \nEnroll your children today for the ISAK Children’s Maktab program! The after-school program is designed to teach students to learn the skills needed for Qur’anic recitation with its proper pronunciation\, and fluency. \nThis program focuses on teaching Tajweed\, the art of correct pronunciation and recitation of the Qur’an\, to instill a love for the holy text and faster spiritual growth among young learners. \nFor any enrollment questions please contact imam@isak.org
URL:http://isak.us/event/childrens-maktab-program-69/
LOCATION:ISAK\, 152 E Steels Corners Rd\, Cuyahoga Falls\, OH\, 44224\, United States
CATEGORIES:Classes,Youth Services
ATTACH;FMTTYPE=image/png:http://isak.us/wp-content/uploads/2025/08/unnamed-25.png
END:VEVENT
BEGIN:VEVENT
DTSTART;TZID=UTC:20260311T153000
DTEND;TZID=UTC:20260311T173000
DTSTAMP:20260420T082651
CREATED:20260306T132557Z
LAST-MODIFIED:20260306T132557Z
UID:31344-1773243000-1773250200@isak.us
SUMMARY:Children’s Maktab Program
DESCRIPTION:Children’s Maktab Program \nDate: Wednesday – Friday; 3:30 – 5:30 PM \nLocation: Islamic Society of Akron and Kent\, 152 E Steels Corners Rd\, Cuyahoga Falls\, OH 44224 \nRegistration Link: isak.org/quran \nEnroll your children today for the ISAK Children’s Maktab program! The after-school program is designed to teach students to learn the skills needed for Qur’anic recitation with its proper pronunciation\, and fluency. \nThis program focuses on teaching Tajweed\, the art of correct pronunciation and recitation of the Qur’an\, to instill a love for the holy text and faster spiritual growth among young learners. \nFor any enrollment questions please contact imam@isak.org
URL:http://isak.us/event/childrens-maktab-program-70/
LOCATION:ISAK\, 152 E Steels Corners Rd\, Cuyahoga Falls\, OH\, 44224\, United States
CATEGORIES:Classes,Youth Services
ATTACH;FMTTYPE=image/png:http://isak.us/wp-content/uploads/2025/08/unnamed-25.png
END:VEVENT
BEGIN:VEVENT
DTSTART;TZID=UTC:20260312T153000
DTEND;TZID=UTC:20260312T173000
DTSTAMP:20260420T082651
CREATED:20260306T132739Z
LAST-MODIFIED:20260306T132739Z
UID:31346-1773329400-1773336600@isak.us
SUMMARY:Children’s Maktab Program
DESCRIPTION:Children’s Maktab Program \nDate: Wednesday – Friday; 3:30 – 5:30 PM \nLocation: Islamic Society of Akron and Kent\, 152 E Steels Corners Rd\, Cuyahoga Falls\, OH 44224 \nRegistration Link: isak.org/quran \nEnroll your children today for the ISAK Children’s Maktab program! The after-school program is designed to teach students to learn the skills needed for Qur’anic recitation with its proper pronunciation\, and fluency. \nThis program focuses on teaching Tajweed\, the art of correct pronunciation and recitation of the Qur’an\, to instill a love for the holy text and faster spiritual growth among young learners. \nFor any enrollment questions please contact imam@isak.org
URL:http://isak.us/event/childrens-maktab-program-71/
LOCATION:ISAK\, 152 E Steels Corners Rd\, Cuyahoga Falls\, OH\, 44224\, United States
CATEGORIES:Classes,Youth Services
ATTACH;FMTTYPE=image/png:http://isak.us/wp-content/uploads/2025/08/unnamed-25.png
END:VEVENT
BEGIN:VEVENT
DTSTART;TZID=UTC:20260313T153000
DTEND;TZID=UTC:20260313T173000
DTSTAMP:20260420T082651
CREATED:20260306T132853Z
LAST-MODIFIED:20260306T132853Z
UID:31348-1773415800-1773423000@isak.us
SUMMARY:Children’s Maktab Program
DESCRIPTION:Children’s Maktab Program \nDate: Wednesday – Friday; 3:30 – 5:30 PM \nLocation: Islamic Society of Akron and Kent\, 152 E Steels Corners Rd\, Cuyahoga Falls\, OH 44224 \nRegistration Link: isak.org/quran \nEnroll your children today for the ISAK Children’s Maktab program! The after-school program is designed to teach students to learn the skills needed for Qur’anic recitation with its proper pronunciation\, and fluency. \nThis program focuses on teaching Tajweed\, the art of correct pronunciation and recitation of the Qur’an\, to instill a love for the holy text and faster spiritual growth among young learners. \nFor any enrollment questions please contact imam@isak.org
URL:http://isak.us/event/childrens-maktab-program-72/
LOCATION:ISAK\, 152 E Steels Corners Rd\, Cuyahoga Falls\, OH\, 44224\, United States
CATEGORIES:Classes,Youth Services
ATTACH;FMTTYPE=image/png:http://isak.us/wp-content/uploads/2025/08/unnamed-25.png
END:VEVENT
END:VCALENDAR