BEGIN:VCALENDAR
VERSION:2.0
PRODID:-//Islamic Society of Akron and Kent - ECPv5.14.1//NONSGML v1.0//EN
CALSCALE:GREGORIAN
METHOD:PUBLISH
X-WR-CALNAME:Islamic Society of Akron and Kent
X-ORIGINAL-URL:http://isak.us
X-WR-CALDESC:Events for Islamic Society of Akron and Kent
REFRESH-INTERVAL;VALUE=DURATION:PT1H
X-Robots-Tag:noindex
X-PUBLISHED-TTL:PT1H
BEGIN:VTIMEZONE
TZID:UTC
BEGIN:STANDARD
TZOFFSETFROM:+0000
TZOFFSETTO:+0000
TZNAME:UTC
DTSTART:20250101T000000
END:STANDARD
END:VTIMEZONE
BEGIN:VEVENT
DTSTART;TZID=UTC:20251016T080000
DTEND;TZID=UTC:20251016T170000
DTSTAMP:20260423T040213
CREATED:20251010T213046Z
LAST-MODIFIED:20251003T000549Z
UID:30990-1760601600-1760634000@isak.us
SUMMARY:Children’s Maktab Program
DESCRIPTION:Children’s Maktab Program \nDate: Wednesday – Friday; 3:30 – 5:30 PM \nLocation: Islamic Society of Akron and Kent\, 152 E Steels Corners Rd\, Cuyahoga Falls\, OH 44224 \nRegistration Link: isak.org/quran \nEnroll your children today for the ISAK Children’s Maktab program! The after-school program is designed to teach students to learn the skills needed for Qur’anic recitation with its proper pronunciation\, and fluency. \nThis program focuses on teaching Tajweed\, the art of correct pronunciation and recitation of the Qur’an\, to instill a love for the holy text and faster spiritual growth among young learners. \nFor any enrollment questions please contact imam@isak.org
URL:http://isak.us/event/childrens-maktab-program-31/
LOCATION:ISAK\, 152 E Steels Corners Rd\, Cuyahoga Falls\, OH\, 44224\, United States
CATEGORIES:Classes,Youth Services
ATTACH;FMTTYPE=image/png:http://isak.us/wp-content/uploads/2025/08/unnamed-25.png
ORGANIZER;CN="ISAK":MAILTO:aa@isak.org
END:VEVENT
BEGIN:VEVENT
DTSTART;TZID=UTC:20251016T190000
DTEND;TZID=UTC:20251016T200000
DTSTAMP:20260423T040213
CREATED:20251010T000006Z
LAST-MODIFIED:20251002T235854Z
UID:30986-1760641200-1760644800@isak.us
SUMMARY:Weekly Qur’an Tafsir: Life Lessons from the Qur’an
DESCRIPTION:Weekly Qur’an Tafsir: Life Lessons from the Qur’an \nDate: Every Thursday\, between Maghrib and ‘Isha \nLocation: Islamic Society of Akron and Kent\, 152 E Steels Corners Rd\, Cuyahoga Falls\, OH 44224 \nLive Stream: YouTube.com/@ISAKMedia \nJoin us every Thursday between Maghrib and ‘Ishā’ at ISAK for a spiritually uplifting Tafseer session with our beloved Imam Zobair Ahmed. \nEach week\, Imam Zobair delves into the meanings\, context\, and life lessons from the Qur’an\, helping us connect deeply with Allah’s words. \nDon’t miss this opportunity to grow in your understanding of the Book of Allah. All are welcome – bring your family and friends! \n“Indeed\, this Qur’an guides to that which is most upright…” \n– Surah Al-Isra (17:9)
URL:http://isak.us/event/weekly-quran-tafsir-life-lessons-from-the-quran-9/
LOCATION:ISAK Prayer Hall\, 152 E. Steels Corners Rd\, Cuyahoga Falls\, OH\, 44224\, United States
CATEGORIES:Halaqa
ATTACH;FMTTYPE=image/png:http://isak.us/wp-content/uploads/2025/08/unnamed-29.png
ORGANIZER;CN="ISAK":MAILTO:aa@isak.org
END:VEVENT
END:VCALENDAR